baySeq 2.0.50 Thomas J. Hardcastle
Snapshot Date: 2015-04-09 16:20:12 -0700 (Thu, 09 Apr 2015) | URL: https://hedgehog.fhcrc.org/bioconductor/branches/RELEASE_3_0/madman/Rpacks/baySeq | Last Changed Rev: 95677 / Revision: 102249 | Last Changed Date: 2014-10-17 04:38:16 -0700 (Fri, 17 Oct 2014) |
| zin1 | Linux (Ubuntu 12.04.4 LTS) / x86_64 | OK | OK | OK | |
moscato1 | Windows Server 2008 R2 Enterprise SP1 (64-bit) / x64 | OK | OK | OK | [ OK ] |
perceval | Mac OS X Snow Leopard (10.6.8) / x86_64 | OK | OK | OK | OK |
oaxaca | Mac OS X Mavericks (10.9.5) / x86_64 | OK | OK | OK | OK |
##############################################################################
##############################################################################
###
### Running command:
###
### cd baySeq.buildbin-libdir/baySeq && zip -r ../../baySeq_2.0.50.zip . & cd ../..
###
##############################################################################
##############################################################################
adding: data/ (256 bytes security) (stored 0%)
adding: data/CDPost.RData (188 bytes security) (deflated 3%)
adding: data/CDPriors.RData (188 bytes security) (deflated 4%)
adding: data/mobAnnotation.RData (188 bytes security) (deflated 0%)
adding: data/mobData.RData (188 bytes security) (deflated 2%)
adding: data/pairData.RData (188 bytes security) (deflated 1%)
adding: data/simData.RData (188 bytes security) (deflated 1%)
adding: data/zimData.RData (188 bytes security) (deflated 11%)
adding: DESCRIPTION (188 bytes security) (deflated 39%)
adding: doc/ (256 bytes security) (stored 0%)
adding: doc/baySeq.pdf (188 bytes security) (deflated 13%)
adding: doc/baySeq.R (188 bytes security) (deflated 86%)
adding: doc/baySeq.Rnw (188 bytes security) (deflated 69%)
adding: doc/baySeq_generic.pdf (188 bytes security) (deflated 13%)
adding: doc/baySeq_generic.R (188 bytes security) (deflated 82%)
adding: doc/baySeq_generic.Rnw (188 bytes security) (deflated 67%)
adding: doc/index.html (188 bytes security) (deflated 66%)
adding: help/ (256 bytes security) (stored 0%)
adding: help/aliases.rds (188 bytes security) (stored 0%)
adding: help/AnIndex (188 bytes security) (deflated 78%)
adding: help/baySeq.rdb (188 bytes security) (deflated 1%)
adding: help/baySeq.rdx (188 bytes security) (stored 0%)
adding: help/paths.rds (188 bytes security) (stored 0%)
adding: html/ (256 bytes security) (stored 0%)
adding: html/00Index.html (188 bytes security) (deflated 81%)
adding: html/R.css (188 bytes security) (deflated 70%)
adding: INDEX (188 bytes security) (deflated 70%)
adding: MD5 (188 bytes security) (deflated 45%)
adding: Meta/ (256 bytes security) (stored 0%)
adding: Meta/data.rds (188 bytes security) (stored 0%)
adding: Meta/hsearch.rds (188 bytes security) (stored 0%)
adding: Meta/links.rds (188 bytes security) (stored 0%)
adding: Meta/nsInfo.rds (188 bytes security) (stored 0%)
adding: Meta/package.rds (188 bytes security) (stored 0%)
adding: Meta/Rd.rds (188 bytes security) (stored 0%)
adding: Meta/vignette.rds (188 bytes security) (stored 0%)
adding: NAMESPACE (188 bytes security) (deflated 23%)
adding: R/ (256 bytes security) (stored 0%)
adding: R/baySeq (188 bytes security) (deflated 41%)
adding: R/baySeq.rdb (188 bytes security) (deflated 15%)
adding: R/baySeq.rdx (188 bytes security) (deflated 1%)