annotate 1.44.0 Bioconductor Package Maintainer
Snapshot Date: 2015-04-09 16:20:12 -0700 (Thu, 09 Apr 2015) | URL: https://hedgehog.fhcrc.org/bioconductor/branches/RELEASE_3_0/madman/Rpacks/annotate | Last Changed Rev: 95439 / Revision: 102249 | Last Changed Date: 2014-10-13 14:38:33 -0700 (Mon, 13 Oct 2014) |
| zin1 | Linux (Ubuntu 12.04.4 LTS) / x86_64 | OK | OK | OK | |
moscato1 | Windows Server 2008 R2 Enterprise SP1 (64-bit) / x64 | OK | OK | OK | [ OK ] |
perceval | Mac OS X Snow Leopard (10.6.8) / x86_64 | OK | OK | OK | OK |
oaxaca | Mac OS X Mavericks (10.9.5) / x86_64 | OK | OK | OK | OK |
##############################################################################
##############################################################################
###
### Running command:
###
### cd annotate.buildbin-libdir/annotate && zip -r ../../annotate_1.44.0.zip . & cd ../..
###
##############################################################################
##############################################################################
adding: data/ (256 bytes security) (stored 0%)
adding: data/hgByChroms.rda (188 bytes security) (deflated 0%)
adding: data/hgCLengths.rda (188 bytes security) (stored 0%)
adding: data/hgu95Achroloc.rda (188 bytes security) (deflated 0%)
adding: data/hgu95Achrom.rda (188 bytes security) (deflated 0%)
adding: data/hgu95All.rda (188 bytes security) (deflated 0%)
adding: data/hgu95AProbLocs.rda (188 bytes security) (deflated 0%)
adding: data/hgu95Asym.rda (188 bytes security) (deflated 0%)
adding: DESCRIPTION (188 bytes security) (deflated 41%)
adding: doc/ (256 bytes security) (stored 0%)
adding: doc/annotate.pdf (188 bytes security) (deflated 8%)
adding: doc/annotate.R (188 bytes security) (deflated 77%)
adding: doc/annotate.Rnw (188 bytes security) (deflated 59%)
adding: doc/chromLoc.pdf (188 bytes security) (deflated 8%)
adding: doc/chromLoc.R (188 bytes security) (deflated 63%)
adding: doc/chromLoc.Rnw (188 bytes security) (deflated 59%)
adding: doc/GOusage.pdf (188 bytes security) (deflated 9%)
adding: doc/GOusage.R (188 bytes security) (deflated 76%)
adding: doc/GOusage.Rnw (188 bytes security) (deflated 61%)
adding: doc/index.html (188 bytes security) (deflated 81%)
adding: doc/prettyOutput.pdf (188 bytes security) (deflated 8%)
adding: doc/prettyOutput.R (188 bytes security) (deflated 68%)
adding: doc/prettyOutput.Rnw (188 bytes security) (deflated 57%)
adding: doc/query.pdf (188 bytes security) (deflated 8%)
adding: doc/query.R (188 bytes security) (deflated 71%)
adding: doc/query.Rnw (188 bytes security) (deflated 60%)
adding: doc/useDataPkgs.pdf (188 bytes security) (deflated 8%)
adding: doc/useDataPkgs.R (188 bytes security) (deflated 76%)
adding: doc/useDataPkgs.Rnw (188 bytes security) (deflated 62%)
adding: doc/useHomology.pdf (188 bytes security) (deflated 7%)
adding: doc/useHomology.R (188 bytes security) (deflated 71%)
adding: doc/useHomology.Rnw (188 bytes security) (deflated 62%)
adding: doc/useProbeInfo.pdf (188 bytes security) (deflated 6%)
adding: doc/useProbeInfo.R (188 bytes security) (deflated 72%)
adding: doc/useProbeInfo.Rnw (188 bytes security) (deflated 56%)
adding: help/ (256 bytes security) (stored 0%)
adding: help/aliases.rds (188 bytes security) (stored 0%)
adding: help/AnIndex (188 bytes security) (deflated 76%)
adding: help/annotate.rdb (188 bytes security) (deflated 1%)
adding: help/annotate.rdx (188 bytes security) (stored 0%)
adding: help/paths.rds (188 bytes security) (stored 0%)
adding: html/ (256 bytes security) (stored 0%)
adding: html/00Index.html (188 bytes security) (deflated 86%)
adding: html/R.css (188 bytes security) (deflated 70%)
adding: INDEX (188 bytes security) (deflated 67%)
adding: MD5 (188 bytes security) (deflated 47%)
adding: Meta/ (256 bytes security) (stored 0%)
adding: Meta/data.rds (188 bytes security) (stored 0%)
adding: Meta/hsearch.rds (188 bytes security) (deflated 1%)
adding: Meta/links.rds (188 bytes security) (stored 0%)
adding: Meta/nsInfo.rds (188 bytes security) (stored 0%)
adding: Meta/package.rds (188 bytes security) (stored 0%)
adding: Meta/Rd.rds (188 bytes security) (stored 0%)
adding: Meta/vignette.rds (188 bytes security) (stored 0%)
adding: misc/ (256 bytes security) (stored 0%)
adding: misc/demowrite.html (188 bytes security) (deflated 85%)
adding: misc/pmLinkGen.pdf (188 bytes security) (deflated 11%)
adding: misc/pmLinkGen.Rnw (188 bytes security) (deflated 59%)
adding: NAMESPACE (188 bytes security) (deflated 72%)
adding: NEWS.Rd (188 bytes security) (deflated 43%)
adding: R/ (256 bytes security) (stored 0%)
adding: R/annotate (188 bytes security) (deflated 41%)
adding: R/annotate.rdb (188 bytes security) (deflated 22%)
adding: R/annotate.rdx (188 bytes security) (deflated 0%)
adding: unitTests/ (256 bytes security) (stored 0%)
adding: unitTests/test_getAnnMap.R (188 bytes security) (deflated 40%)