MSnbase 1.14.2 Laurent Gatto
 | Snapshot Date: 2015-04-09 16:20:12 -0700 (Thu, 09 Apr 2015) |  | URL: https://hedgehog.fhcrc.org/bioconductor/branches/RELEASE_3_0/madman/Rpacks/MSnbase |  | Last Changed Rev: 100966 / Revision: 102249 |  | Last Changed Date: 2015-03-21 00:54:49 -0700 (Sat, 21 Mar 2015) |  
  | zin1  | Linux (Ubuntu 12.04.4 LTS) / x86_64  |  OK  |  OK  |  OK  |  | 
| moscato1  | Windows Server 2008 R2 Enterprise SP1 (64-bit) / x64  | [ OK ] |  OK  |  OK  |  OK  | 
| perceval  | Mac OS X Snow Leopard (10.6.8) / x86_64  |  OK  |  OK  |  OK  |  OK  | 
| oaxaca  | Mac OS X Mavericks (10.9.5) / x86_64  |  OK  |  OK  |  OK  |  OK  | 
##############################################################################
##############################################################################
###
### Running command:
###
###   C:\cygwin\bin\curl.exe -O http://zin1/BBS/3.0/bioc/src/contrib/MSnbase_1.14.2.tar.gz && D:\biocbld\bbs-3.0-bioc\R\bin\R.exe CMD INSTALL --merge-multiarch MSnbase_1.14.2.tar.gz && rm MSnbase_1.14.2.tar.gz
###
##############################################################################
##############################################################################
  % Total    % Received % Xferd  Average Speed   Time    Time     Time  Current
                                 Dload  Upload   Total   Spent    Left  Speed
  0     0    0     0    0     0      0      0 --:--:-- --:--:-- --:--:--     0
100  964k  100  964k    0     0  38.7M      0 --:--:-- --:--:-- --:--:-- 49.5M
install for i386
* installing to library 'D:/biocbld/bbs-3.0-bioc/R/library'
* installing *source* package 'MSnbase' ...
** R
** data
*** moving datasets to lazyload DB
** inst
** preparing package for lazy loading
Creating a new generic function for 'smooth' in package 'MSnbase'
Creating a generic function for 't' from package 'base' in package 'MSnbase'
Creating a generic function for 'scale' from package 'base' in package 'MSnbase'
** help
*** installing help indices
** building package indices
** installing vignettes
   'MSnbase-demo.Rnw' 
   'MSnbase-development.Rnw' 
   'MSnbase-io.Rnw' 
** testing if installed package can be loaded
install for x64
* installing to library 'D:/biocbld/bbs-3.0-bioc/R/library'
* installing *source* package 'MSnbase' ...
** testing if installed package can be loaded
* DONE (MSnbase)