IRanges 2.0.1 Bioconductor Package Maintainer
 | Snapshot Date: 2015-04-09 16:20:12 -0700 (Thu, 09 Apr 2015) |  | URL: https://hedgehog.fhcrc.org/bioconductor/branches/RELEASE_3_0/madman/Rpacks/IRanges |  | Last Changed Rev: 97568 / Revision: 102249 |  | Last Changed Date: 2014-12-11 11:40:54 -0800 (Thu, 11 Dec 2014) |  
  | zin1  | Linux (Ubuntu 12.04.4 LTS) / x86_64  |  OK  |  OK  |  WARNINGS  |  | 
| moscato1  | Windows Server 2008 R2 Enterprise SP1 (64-bit) / x64  |  OK  |  OK  |  WARNINGS  |  OK  | 
| perceval  | Mac OS X Snow Leopard (10.6.8) / x86_64  |  OK  |  OK  |  WARNINGS  |  OK  | 
| oaxaca  | Mac OS X Mavericks (10.9.5) / x86_64  |  OK  | [ OK ] |  WARNINGS  |  OK  | 
##############################################################################
##############################################################################
###
### Running command:
###
###   /Library/Frameworks/R.framework/Versions/Current/Resources/bin/R CMD build --keep-empty-dirs --no-resave-data IRanges
###
##############################################################################
##############################################################################
* checking for file ‘IRanges/DESCRIPTION’ ... OK
* preparing ‘IRanges’:
* checking DESCRIPTION meta-information ... OK
* cleaning src
* installing the package to build vignettes
* creating vignettes ... OK
* cleaning src
* checking for LF line-endings in source and make files
* checking for empty or unneeded directories
* building ‘IRanges_2.0.1.tar.gz’