| GenomeInfoDb 1.2.5 Bioconductor Package Maintainer
 
 | Snapshot Date: 2015-04-09 16:20:12 -0700 (Thu, 09 Apr 2015) |  | URL: https://hedgehog.fhcrc.org/bioconductor/branches/RELEASE_3_0/madman/Rpacks/GenomeInfoDb |  | Last Changed Rev: 102059 / Revision: 102249 |  | Last Changed Date: 2015-04-07 14:40:44 -0700 (Tue, 07 Apr 2015) | 
 | zin1 | Linux (Ubuntu 12.04.4 LTS) / x86_64 | OK | OK | OK |  | 
| moscato1 | Windows Server 2008 R2 Enterprise SP1 (64-bit) / x64 | OK | OK | OK | OK | 
| perceval | Mac OS X Snow Leopard (10.6.8) / x86_64 | OK | OK | OK | OK | 
| oaxaca | Mac OS X Mavericks (10.9.5) / x86_64 | OK | [ OK ] | OK | OK | 
##############################################################################
##############################################################################
###
### Running command:
###
###   /Library/Frameworks/R.framework/Versions/Current/Resources/bin/R CMD build --keep-empty-dirs --no-resave-data GenomeInfoDb
###
##############################################################################
##############################################################################
* checking for file ‘GenomeInfoDb/DESCRIPTION’ ... OK
* preparing ‘GenomeInfoDb’:
* checking DESCRIPTION meta-information ... OK
* installing the package to build vignettes
* creating vignettes ... OK
* checking for LF line-endings in source and make files
* checking for empty or unneeded directories
* building ‘GenomeInfoDb_1.2.5.tar.gz’