| DOSE 2.4.0 Guangchuang Yu
 
 | Snapshot Date: 2015-04-09 16:20:12 -0700 (Thu, 09 Apr 2015) |  | URL: https://hedgehog.fhcrc.org/bioconductor/branches/RELEASE_3_0/madman/Rpacks/DOSE |  | Last Changed Rev: 98350 / Revision: 102249 |  | Last Changed Date: 2015-01-14 18:40:27 -0800 (Wed, 14 Jan 2015) | 
 | zin1 | Linux (Ubuntu 12.04.4 LTS) / x86_64 | OK | OK | WARNINGS |  | 
| moscato1 | Windows Server 2008 R2 Enterprise SP1 (64-bit) / x64 | OK | OK | WARNINGS | [ OK ] | 
| perceval | Mac OS X Snow Leopard (10.6.8) / x86_64 | OK | OK | WARNINGS | OK | 
| oaxaca | Mac OS X Mavericks (10.9.5) / x86_64 | OK | OK | WARNINGS | OK | 
##############################################################################
##############################################################################
###
### Running command:
###
###   cd DOSE.buildbin-libdir/DOSE && zip -r ../../DOSE_2.4.0.zip . & cd ../..
###
##############################################################################
##############################################################################
  adding: CITATION (188 bytes security) (deflated 53%)
  adding: data/ (256 bytes security) (stored 0%)
  adding: data/datalist (188 bytes security) (deflated 12%)
  adding: data/DO2ALLEG.rda (188 bytes security) (deflated 0%)
  adding: data/DO2EG.rda (188 bytes security) (deflated 0%)
  adding: data/DOSEEnv.rda (188 bytes security) (deflated 0%)
  adding: data/EG2ALLDO.rda (188 bytes security) (deflated 0%)
  adding: data/EG2DO.rda (188 bytes security) (deflated 0%)
  adding: data/geneList.rda (188 bytes security) (deflated 0%)
  adding: data/Info_Contents_human_DO.rda (188 bytes security) (stored 0%)
  adding: DESCRIPTION (188 bytes security) (deflated 40%)
  adding: doc/ (256 bytes security) (stored 0%)
  adding: doc/DOSE.pdf (188 bytes security) (deflated 20%)
  adding: doc/DOSE.R (188 bytes security) (deflated 67%)
  adding: doc/DOSE.Rnw (188 bytes security) (deflated 65%)
  adding: doc/index.html (188 bytes security) (deflated 55%)
  adding: extdata/ (256 bytes security) (stored 0%)
  adding: extdata/preparing.geneList.R (188 bytes security) (deflated 52%)
  adding: help/ (256 bytes security) (stored 0%)
  adding: help/aliases.rds (188 bytes security) (stored 0%)
  adding: help/AnIndex (188 bytes security) (deflated 72%)
  adding: help/DOSE.rdb (188 bytes security) (deflated 4%)
  adding: help/DOSE.rdx (188 bytes security) (stored 0%)
  adding: help/paths.rds (188 bytes security) (stored 0%)
  adding: html/ (256 bytes security) (stored 0%)
  adding: html/00Index.html (188 bytes security) (deflated 83%)
  adding: html/R.css (188 bytes security) (deflated 70%)
  adding: INDEX (188 bytes security) (deflated 69%)
  adding: MD5 (188 bytes security) (deflated 42%)
  adding: Meta/ (256 bytes security) (stored 0%)
  adding: Meta/data.rds (188 bytes security) (stored 0%)
  adding: Meta/hsearch.rds (188 bytes security) (stored 0%)
  adding: Meta/links.rds (188 bytes security) (stored 0%)
  adding: Meta/nsInfo.rds (188 bytes security) (stored 0%)
  adding: Meta/package.rds (188 bytes security) (stored 0%)
  adding: Meta/Rd.rds (188 bytes security) (stored 0%)
  adding: Meta/vignette.rds (188 bytes security) (stored 0%)
  adding: NAMESPACE (188 bytes security) (deflated 73%)
  adding: NEWS (188 bytes security) (deflated 67%)
  adding: R/ (256 bytes security) (stored 0%)
  adding: R/DOSE (188 bytes security) (deflated 41%)
  adding: R/DOSE.rdb (188 bytes security) (deflated 28%)
  adding: R/DOSE.rdx (188 bytes security) (stored 0%)