ChIPpeakAnno 2.16.4 Lihua Julie Zhu
Snapshot Date: 2015-04-09 16:20:12 -0700 (Thu, 09 Apr 2015) | URL: https://hedgehog.fhcrc.org/bioconductor/branches/RELEASE_3_0/madman/Rpacks/ChIPpeakAnno | Last Changed Rev: 97612 / Revision: 102249 | Last Changed Date: 2014-12-12 17:02:49 -0800 (Fri, 12 Dec 2014) |
| zin1 | Linux (Ubuntu 12.04.4 LTS) / x86_64 | OK | OK | OK | |
moscato1 | Windows Server 2008 R2 Enterprise SP1 (64-bit) / x64 | [ OK ] | OK | OK | OK |
perceval | Mac OS X Snow Leopard (10.6.8) / x86_64 | OK | OK | OK | OK |
oaxaca | Mac OS X Mavericks (10.9.5) / x86_64 | OK | OK | OK | OK |
##############################################################################
##############################################################################
###
### Running command:
###
### C:\cygwin\bin\curl.exe -O http://zin1/BBS/3.0/bioc/src/contrib/ChIPpeakAnno_2.16.4.tar.gz && D:\biocbld\bbs-3.0-bioc\R\bin\R.exe CMD INSTALL --merge-multiarch ChIPpeakAnno_2.16.4.tar.gz && rm ChIPpeakAnno_2.16.4.tar.gz
###
##############################################################################
##############################################################################
% Total % Received % Xferd Average Speed Time Time Time Current
Dload Upload Total Spent Left Speed
0 0 0 0 0 0 0 0 --:--:-- --:--:-- --:--:-- 0
67 10.3M 67 7101k 0 0 48.6M 0 --:--:-- --:--:-- --:--:-- 50.6M
100 10.3M 100 10.3M 0 0 52.3M 0 --:--:-- --:--:-- --:--:-- 53.7M
install for i386
* installing to library 'D:/biocbld/bbs-3.0-bioc/R/library'
* installing *source* package 'ChIPpeakAnno' ...
** R
** data
** inst
** preparing package for lazy loading
** help
*** installing help indices
** building package indices
** installing vignettes
** testing if installed package can be loaded
install for x64
* installing to library 'D:/biocbld/bbs-3.0-bioc/R/library'
* installing *source* package 'ChIPpeakAnno' ...
** testing if installed package can be loaded
* DONE (ChIPpeakAnno)