| pcaMethods 1.56.0 Henning Redestig
 
 | Snapshot Date: 2015-04-09 16:20:12 -0700 (Thu, 09 Apr 2015) |  | URL: https://hedgehog.fhcrc.org/bioconductor/branches/RELEASE_3_0/madman/Rpacks/pcaMethods |  | Last Changed Rev: 95439 / Revision: 102249 |  | Last Changed Date: 2014-10-13 14:38:33 -0700 (Mon, 13 Oct 2014) | 
 | zin1 | Linux (Ubuntu 12.04.4 LTS) / x86_64 | OK | OK | OK |  | 
| moscato1 | Windows Server 2008 R2 Enterprise SP1 (64-bit) / x64 | [ OK ] | OK | OK | OK | 
| perceval | Mac OS X Snow Leopard (10.6.8) / x86_64 | OK | OK | OK | OK | 
| oaxaca | Mac OS X Mavericks (10.9.5) / x86_64 | OK | OK | OK | OK | 
##############################################################################
##############################################################################
###
### Running command:
###
###   C:\cygwin\bin\curl.exe -O http://zin1/BBS/3.0/bioc/src/contrib/pcaMethods_1.56.0.tar.gz && D:\biocbld\bbs-3.0-bioc\R\bin\R.exe CMD INSTALL --merge-multiarch pcaMethods_1.56.0.tar.gz && rm pcaMethods_1.56.0.tar.gz
###
##############################################################################
##############################################################################
  % Total    % Received % Xferd  Average Speed   Time    Time     Time  Current
                                 Dload  Upload   Total   Spent    Left  Speed
  0     0    0     0    0     0      0      0 --:--:-- --:--:-- --:--:--     0
100  185k  100  185k    0     0  2645k      0 --:--:-- --:--:-- --:--:-- 20.1M
install for i386
* installing to library 'D:/biocbld/bbs-3.0-bioc/R/library'
* installing *source* package 'pcaMethods' ...
** libs
g++ -m32 -I"D:/biocbld/BBS-3˜1.0-B/R/include" -DNDEBUG    -I"D:/biocbld/bbs-3.0-bioc/R/library/Rcpp/include" -I"d:/RCompile/CRANpkg/extralibs64/local/include"     -O2 -Wall  -mtune=core2 -c nipals.cpp -o nipals.o
g++ -m32 -shared -s -static-libgcc -o pcaMethods.dll tmp.def nipals.o -Ld:/RCompile/CRANpkg/extralibs64/local/lib/i386 -Ld:/RCompile/CRANpkg/extralibs64/local/lib -LD:/biocbld/BBS-3˜1.0-B/R/bin/i386 -lR
installing to D:/biocbld/bbs-3.0-bioc/R/library/pcaMethods/libs/i386
** R
** data
** inst
** preparing package for lazy loading
Creating a new generic function for 'loadings' in package 'pcaMethods'
Creating a generic function for 'print' from package 'base' in package 'pcaMethods'
Creating a generic function for 'biplot' from package 'stats' in package 'pcaMethods'
Creating a generic function for 'summary' from package 'base' in package 'pcaMethods'
Creating a generic function for 'predict' from package 'stats' in package 'pcaMethods'
Creating a generic function for 'resid' from package 'stats' in package 'pcaMethods'
Creating a generic function for 'fitted' from package 'stats' in package 'pcaMethods'
Creating a generic function for 'plot' from package 'graphics' in package 'pcaMethods'
** help
*** installing help indices
** building package indices
** installing vignettes
   'missingValues.Rnw' 
   'outliers.Rnw' 
   'pcaMethods.Rnw' 
** testing if installed package can be loaded
install for x64
* installing to library 'D:/biocbld/bbs-3.0-bioc/R/library'
* installing *source* package 'pcaMethods' ...
** libs
g++ -m64 -I"D:/biocbld/BBS-3˜1.0-B/R/include" -DNDEBUG    -I"D:/biocbld/bbs-3.0-bioc/R/library/Rcpp/include" -I"d:/RCompile/CRANpkg/extralibs64/local/include"     -O2 -Wall  -mtune=core2 -c nipals.cpp -o nipals.o
g++ -m64 -shared -s -static-libgcc -o pcaMethods.dll tmp.def nipals.o -Ld:/RCompile/CRANpkg/extralibs64/local/lib/x64 -Ld:/RCompile/CRANpkg/extralibs64/local/lib -LD:/biocbld/BBS-3˜1.0-B/R/bin/x64 -lR
installing to D:/biocbld/bbs-3.0-bioc/R/library/pcaMethods/libs/x64
** testing if installed package can be loaded
* DONE (pcaMethods)