oligo 1.30.0 Benilton Carvalho
Snapshot Date: 2015-04-09 16:20:12 -0700 (Thu, 09 Apr 2015) | URL: https://hedgehog.fhcrc.org/bioconductor/branches/RELEASE_3_0/madman/Rpacks/oligo | Last Changed Rev: 95439 / Revision: 102249 | Last Changed Date: 2014-10-13 14:38:33 -0700 (Mon, 13 Oct 2014) |
| zin1 | Linux (Ubuntu 12.04.4 LTS) / x86_64 | [ OK ] | OK | WARNINGS | |
moscato1 | Windows Server 2008 R2 Enterprise SP1 (64-bit) / x64 | OK | OK | WARNINGS | OK |
perceval | Mac OS X Snow Leopard (10.6.8) / x86_64 | OK | OK | WARNINGS | OK |
oaxaca | Mac OS X Mavericks (10.9.5) / x86_64 | OK | OK | WARNINGS | OK |
##############################################################################
##############################################################################
###
### Running command:
###
### /home/biocbuild/bbs-3.0-bioc/R/bin/R CMD INSTALL oligo
###
##############################################################################
##############################################################################
* installing to library ‘/home/biocbuild/bbs-3.0-bioc/R/library’
* installing *source* package ‘oligo’ ...
** libs
gcc -std=gnu99 -I/home/biocbuild/bbs-3.0-bioc/R/include -DNDEBUG -I/usr/local/include -I"/home/biocbuild/bbs-3.0-bioc/R/library/preprocessCore/include" -fpic -g -O2 -Wall -c DABG.c -o DABG.o
gcc -std=gnu99 -I/home/biocbuild/bbs-3.0-bioc/R/include -DNDEBUG -I/usr/local/include -I"/home/biocbuild/bbs-3.0-bioc/R/library/preprocessCore/include" -fpic -g -O2 -Wall -c ParserGzXYS.c -o ParserGzXYS.o
gcc -std=gnu99 -I/home/biocbuild/bbs-3.0-bioc/R/include -DNDEBUG -I/usr/local/include -I"/home/biocbuild/bbs-3.0-bioc/R/library/preprocessCore/include" -fpic -g -O2 -Wall -c ParserXYS.c -o ParserXYS.o
ParserXYS.c: In function ‘R_read_xys_header’:
ParserXYS.c:320:8: warning: ignoring return value of ‘fgets’, declared with attribute warn_unused_result [-Wunused-result]
ParserXYS.c: In function ‘xys_header_field’:
ParserXYS.c:145:8: warning: ignoring return value of ‘fgets’, declared with attribute warn_unused_result [-Wunused-result]
gcc -std=gnu99 -I/home/biocbuild/bbs-3.0-bioc/R/include -DNDEBUG -I/usr/local/include -I"/home/biocbuild/bbs-3.0-bioc/R/library/preprocessCore/include" -fpic -g -O2 -Wall -c baseProfile.c -o baseProfile.o
gcc -std=gnu99 -I/home/biocbuild/bbs-3.0-bioc/R/include -DNDEBUG -I/usr/local/include -I"/home/biocbuild/bbs-3.0-bioc/R/library/preprocessCore/include" -fpic -g -O2 -Wall -c basecontent.c -o basecontent.o
gcc -std=gnu99 -I/home/biocbuild/bbs-3.0-bioc/R/include -DNDEBUG -I/usr/local/include -I"/home/biocbuild/bbs-3.0-bioc/R/library/preprocessCore/include" -fpic -g -O2 -Wall -c chipbackground.c -o chipbackground.o
gcc -std=gnu99 -I/home/biocbuild/bbs-3.0-bioc/R/include -DNDEBUG -I/usr/local/include -I"/home/biocbuild/bbs-3.0-bioc/R/library/preprocessCore/include" -fpic -g -O2 -Wall -c mas5calls.c -o mas5calls.o
gcc -std=gnu99 -I/home/biocbuild/bbs-3.0-bioc/R/include -DNDEBUG -I/usr/local/include -I"/home/biocbuild/bbs-3.0-bioc/R/library/preprocessCore/include" -fpic -g -O2 -Wall -c rma2.c -o rma2.o
gcc -std=gnu99 -I/home/biocbuild/bbs-3.0-bioc/R/include -DNDEBUG -I/usr/local/include -I"/home/biocbuild/bbs-3.0-bioc/R/library/preprocessCore/include" -fpic -g -O2 -Wall -c rma_common.c -o rma_common.o
gcc -std=gnu99 -I/home/biocbuild/bbs-3.0-bioc/R/include -DNDEBUG -I/usr/local/include -I"/home/biocbuild/bbs-3.0-bioc/R/library/preprocessCore/include" -fpic -g -O2 -Wall -c trimmed.c -o trimmed.o
gcc -std=gnu99 -shared -L/home/biocbuild/bbs-3.0-bioc/R/lib -L/usr/local/lib -o oligo.so DABG.o ParserGzXYS.o ParserXYS.o baseProfile.o basecontent.o chipbackground.o mas5calls.o rma2.o rma_common.o trimmed.o -lz -lgfortran -lm -lquadmath -L/home/biocbuild/bbs-3.0-bioc/R/lib -lRlapack -L/home/biocbuild/bbs-3.0-bioc/R/lib -lRblas -L/home/biocbuild/bbs-3.0-bioc/R/lib -lR
installing to /home/biocbuild/bbs-3.0-bioc/R/library/oligo/libs
** R
** inst
** preparing package for lazy loading
Note: in method for ‘pm<-’ with signature
‘object="TilingFeatureSet",subset="ANY",target="ANY",value="array"’:
expanding the signature to include omitted arguments in definition: =
"missing"
Note: in method for ‘mm<-’ with signature
‘object="TilingFeatureSet",subset="ANY",target="ANY",value="array"’:
expanding the signature to include omitted arguments in definition: =
"missing"
** help
*** installing help indices
** building package indices
** installing vignettes
** testing if installed package can be loaded
* DONE (oligo)