mosaics 2.0.1 Dongjun Chung
Snapshot Date: 2015-04-09 16:20:12 -0700 (Thu, 09 Apr 2015) | URL: https://hedgehog.fhcrc.org/bioconductor/branches/RELEASE_3_0/madman/Rpacks/mosaics | Last Changed Rev: 97116 / Revision: 102249 | Last Changed Date: 2014-11-25 08:41:37 -0800 (Tue, 25 Nov 2014) |
| zin1 | Linux (Ubuntu 12.04.4 LTS) / x86_64 | OK | OK | WARNINGS | |
moscato1 | Windows Server 2008 R2 Enterprise SP1 (64-bit) / x64 | [ OK ] | OK | WARNINGS | OK |
perceval | Mac OS X Snow Leopard (10.6.8) / x86_64 | OK | OK | WARNINGS | OK |
oaxaca | Mac OS X Mavericks (10.9.5) / x86_64 | OK | OK | WARNINGS | OK |
##############################################################################
##############################################################################
###
### Running command:
###
### C:\cygwin\bin\curl.exe -O http://zin1/BBS/3.0/bioc/src/contrib/mosaics_2.0.1.tar.gz && D:\biocbld\bbs-3.0-bioc\R\bin\R.exe CMD INSTALL --merge-multiarch mosaics_2.0.1.tar.gz && rm mosaics_2.0.1.tar.gz
###
##############################################################################
##############################################################################
% Total % Received % Xferd Average Speed Time Time Time Current
Dload Upload Total Spent Left Speed
0 0 0 0 0 0 0 0 --:--:-- --:--:-- --:--:-- 0
100 1701k 100 1701k 0 0 59.6M 0 --:--:-- --:--:-- --:--:-- 75.5M
install for i386
* installing to library 'D:/biocbld/bbs-3.0-bioc/R/library'
* installing *source* package 'mosaics' ...
** libs
g++ -m32 -I"D:/biocbld/BBS-3˜1.0-B/R/include" -DNDEBUG -I"D:/biocbld/bbs-3.0-bioc/R/library/Rcpp/include" -I"d:/RCompile/CRANpkg/extralibs64/local/include" -O2 -Wall -mtune=core2 -c convolution_1S.cpp -o convolution_1S.o
g++ -m32 -I"D:/biocbld/BBS-3˜1.0-B/R/include" -DNDEBUG -I"D:/biocbld/bbs-3.0-bioc/R/library/Rcpp/include" -I"d:/RCompile/CRANpkg/extralibs64/local/include" -O2 -Wall -mtune=core2 -c convolution_2S.cpp -o convolution_2S.o
g++ -m32 -I"D:/biocbld/BBS-3˜1.0-B/R/include" -DNDEBUG -I"D:/biocbld/bbs-3.0-bioc/R/library/Rcpp/include" -I"d:/RCompile/CRANpkg/extralibs64/local/include" -O2 -Wall -mtune=core2 -c emHMM.cpp -o emHMM.o
g++ -m32 -I"D:/biocbld/BBS-3˜1.0-B/R/include" -DNDEBUG -I"D:/biocbld/bbs-3.0-bioc/R/library/Rcpp/include" -I"d:/RCompile/CRANpkg/extralibs64/local/include" -O2 -Wall -mtune=core2 -c updatePiMat.cpp -o updatePiMat.o
g++ -m32 -I"D:/biocbld/BBS-3˜1.0-B/R/include" -DNDEBUG -I"D:/biocbld/bbs-3.0-bioc/R/library/Rcpp/include" -I"d:/RCompile/CRANpkg/extralibs64/local/include" -O2 -Wall -mtune=core2 -c viterbi.cpp -o viterbi.o
g++ -m32 -shared -s -static-libgcc -o mosaics.dll tmp.def convolution_1S.o convolution_2S.o emHMM.o updatePiMat.o viterbi.o -Ld:/RCompile/CRANpkg/extralibs64/local/lib/i386 -Ld:/RCompile/CRANpkg/extralibs64/local/lib -LD:/biocbld/BBS-3˜1.0-B/R/bin/i386 -lR
installing to D:/biocbld/bbs-3.0-bioc/R/library/mosaics/libs/i386
** R
** inst
** preparing package for lazy loading
Creating a generic function for 'print' from package 'base' in package 'mosaics'
Creating a generic function for 'plot' from package 'graphics' in package 'mosaics'
** help
*** installing help indices
** building package indices
** installing vignettes
** testing if installed package can be loaded
install for x64
* installing to library 'D:/biocbld/bbs-3.0-bioc/R/library'
* installing *source* package 'mosaics' ...
** libs
g++ -m64 -I"D:/biocbld/BBS-3˜1.0-B/R/include" -DNDEBUG -I"D:/biocbld/bbs-3.0-bioc/R/library/Rcpp/include" -I"d:/RCompile/CRANpkg/extralibs64/local/include" -O2 -Wall -mtune=core2 -c convolution_1S.cpp -o convolution_1S.o
g++ -m64 -I"D:/biocbld/BBS-3˜1.0-B/R/include" -DNDEBUG -I"D:/biocbld/bbs-3.0-bioc/R/library/Rcpp/include" -I"d:/RCompile/CRANpkg/extralibs64/local/include" -O2 -Wall -mtune=core2 -c convolution_2S.cpp -o convolution_2S.o
g++ -m64 -I"D:/biocbld/BBS-3˜1.0-B/R/include" -DNDEBUG -I"D:/biocbld/bbs-3.0-bioc/R/library/Rcpp/include" -I"d:/RCompile/CRANpkg/extralibs64/local/include" -O2 -Wall -mtune=core2 -c emHMM.cpp -o emHMM.o
g++ -m64 -I"D:/biocbld/BBS-3˜1.0-B/R/include" -DNDEBUG -I"D:/biocbld/bbs-3.0-bioc/R/library/Rcpp/include" -I"d:/RCompile/CRANpkg/extralibs64/local/include" -O2 -Wall -mtune=core2 -c updatePiMat.cpp -o updatePiMat.o
g++ -m64 -I"D:/biocbld/BBS-3˜1.0-B/R/include" -DNDEBUG -I"D:/biocbld/bbs-3.0-bioc/R/library/Rcpp/include" -I"d:/RCompile/CRANpkg/extralibs64/local/include" -O2 -Wall -mtune=core2 -c viterbi.cpp -o viterbi.o
g++ -m64 -shared -s -static-libgcc -o mosaics.dll tmp.def convolution_1S.o convolution_2S.o emHMM.o updatePiMat.o viterbi.o -Ld:/RCompile/CRANpkg/extralibs64/local/lib/x64 -Ld:/RCompile/CRANpkg/extralibs64/local/lib -LD:/biocbld/BBS-3˜1.0-B/R/bin/x64 -lR
installing to D:/biocbld/bbs-3.0-bioc/R/library/mosaics/libs/x64
** testing if installed package can be loaded
* DONE (mosaics)