mgsa 1.14.2 Sebastian Bauer
Snapshot Date: 2015-04-09 16:20:12 -0700 (Thu, 09 Apr 2015) | URL: https://hedgehog.fhcrc.org/bioconductor/branches/RELEASE_3_0/madman/Rpacks/mgsa | Last Changed Rev: 96606 / Revision: 102249 | Last Changed Date: 2014-11-07 11:51:17 -0800 (Fri, 07 Nov 2014) |
| zin1 | Linux (Ubuntu 12.04.4 LTS) / x86_64 | OK | OK | WARNINGS | |
moscato1 | Windows Server 2008 R2 Enterprise SP1 (64-bit) / x64 | [ OK ] | OK | WARNINGS | OK |
perceval | Mac OS X Snow Leopard (10.6.8) / x86_64 | OK | OK | WARNINGS | OK |
oaxaca | Mac OS X Mavericks (10.9.5) / x86_64 | OK | OK | WARNINGS | OK |
##############################################################################
##############################################################################
###
### Running command:
###
### C:\cygwin\bin\curl.exe -O http://zin1/BBS/3.0/bioc/src/contrib/mgsa_1.14.2.tar.gz && D:\biocbld\bbs-3.0-bioc\R\bin\R.exe CMD INSTALL --merge-multiarch mgsa_1.14.2.tar.gz && rm mgsa_1.14.2.tar.gz
###
##############################################################################
##############################################################################
% Total % Received % Xferd Average Speed Time Time Time Current
Dload Upload Total Spent Left Speed
0 0 0 0 0 0 0 0 --:--:-- --:--:-- --:--:-- 0
100 197k 100 197k 0 0 9961k 0 --:--:-- --:--:-- --:--:-- 16.0M
install for i386
* installing to library 'D:/biocbld/bbs-3.0-bioc/R/library'
* installing *source* package 'mgsa' ...
**********************************************
WARNING: this package has a configure script
It probably needs manual configuration
**********************************************
** libs
gcc -m32 -I"D:/biocbld/BBS-3˜1.0-B/R/include" -DNDEBUG -I"d:/RCompile/CRANpkg/extralibs64/local/include" -O3 -Wall -std=gnu99 -mtune=core2 -c mgsa.c -o mgsa.o
mgsa.c: In function 'ts_R_alloc':
mgsa.c:57:0: warning: ignoring #pragma omp critical [-Wunknown-pragmas]
mgsa.c: In function 'mgsa_mcmc':
mgsa.c:1432:0: warning: ignoring #pragma omp parallel [-Wunknown-pragmas]
mgsa.c:1438:0: warning: ignoring #pragma omp critical [-Wunknown-pragmas]
gcc -m32 -shared -s -static-libgcc -o mgsa.dll tmp.def mgsa.o -Ld:/RCompile/CRANpkg/extralibs64/local/lib/i386 -Ld:/RCompile/CRANpkg/extralibs64/local/lib -LD:/biocbld/BBS-3˜1.0-B/R/bin/i386 -lR
installing to D:/biocbld/bbs-3.0-bioc/R/library/mgsa/libs/i386
** R
** data
** inst
** preparing package for lazy loading
Creating a generic function for 'plot' from package 'graphics' in package 'mgsa'
** help
*** installing help indices
** building package indices
** installing vignettes
** testing if installed package can be loaded
install for x64
* installing to library 'D:/biocbld/bbs-3.0-bioc/R/library'
* installing *source* package 'mgsa' ...
**********************************************
WARNING: this package has a configure script
It probably needs manual configuration
**********************************************
** libs
gcc -m64 -I"D:/biocbld/BBS-3˜1.0-B/R/include" -DNDEBUG -I"d:/RCompile/CRANpkg/extralibs64/local/include" -O2 -Wall -std=gnu99 -mtune=core2 -c mgsa.c -o mgsa.o
mgsa.c: In function 'ts_R_alloc':
mgsa.c:57:0: warning: ignoring #pragma omp critical [-Wunknown-pragmas]
mgsa.c: In function 'mgsa_mcmc':
mgsa.c:1432:0: warning: ignoring #pragma omp parallel [-Wunknown-pragmas]
mgsa.c:1438:0: warning: ignoring #pragma omp critical [-Wunknown-pragmas]
gcc -m64 -shared -s -static-libgcc -o mgsa.dll tmp.def mgsa.o -Ld:/RCompile/CRANpkg/extralibs64/local/lib/x64 -Ld:/RCompile/CRANpkg/extralibs64/local/lib -LD:/biocbld/BBS-3˜1.0-B/R/bin/x64 -lR
installing to D:/biocbld/bbs-3.0-bioc/R/library/mgsa/libs/x64
** testing if installed package can be loaded
* DONE (mgsa)