interactiveDisplay 1.4.1 Shawn Balcome
Snapshot Date: 2015-04-09 16:20:12 -0700 (Thu, 09 Apr 2015) | URL: https://hedgehog.fhcrc.org/bioconductor/branches/RELEASE_3_0/madman/Rpacks/interactiveDisplay | Last Changed Rev: 98290 / Revision: 102249 | Last Changed Date: 2015-01-12 20:09:55 -0800 (Mon, 12 Jan 2015) |
| zin1 | Linux (Ubuntu 12.04.4 LTS) / x86_64 | OK | OK | OK | |
moscato1 | Windows Server 2008 R2 Enterprise SP1 (64-bit) / x64 | [ OK ] | OK | OK | OK |
perceval | Mac OS X Snow Leopard (10.6.8) / x86_64 | OK | OK | OK | OK |
oaxaca | Mac OS X Mavericks (10.9.5) / x86_64 | OK | OK | OK | OK |
##############################################################################
##############################################################################
###
### Running command:
###
### C:\cygwin\bin\curl.exe -O http://zin1/BBS/3.0/bioc/src/contrib/interactiveDisplay_1.4.1.tar.gz && D:\biocbld\bbs-3.0-bioc\R\bin\R.exe CMD INSTALL --merge-multiarch interactiveDisplay_1.4.1.tar.gz && rm interactiveDisplay_1.4.1.tar.gz
###
##############################################################################
##############################################################################
% Total % Received % Xferd Average Speed Time Time Time Current
Dload Upload Total Spent Left Speed
0 0 0 0 0 0 0 0 --:--:-- --:--:-- --:--:-- 0
50 3188k 50 1622k 0 0 78.7M 0 --:--:-- --:--:-- --:--:-- 99.0M
100 3188k 100 3188k 0 0 92.4M 0 --:--:-- --:--:-- --:--:-- 107M
install for i386
* installing to library 'D:/biocbld/bbs-3.0-bioc/R/library'
* installing *source* package 'interactiveDisplay' ...
** R
** data
** inst
** preparing package for lazy loading
Note: the specification for S3 class "AsIs" in package 'RJSONIO' seems equivalent to one from package 'BiocGenerics': not turning on duplicate class definitions for this class.
Bioconductor version 3.0 (BiocInstaller 1.16.2), ?biocLite for help
in method for 'display' with signature 'object="GRanges"': no definition for class "GRanges"
in method for 'display' with signature 'object="GRangesList"': no definition for class "GRangesList"
in method for 'display' with signature 'object="SummarizedExperiment"': no definition for class "SummarizedExperiment"
in method for 'display' with signature 'object="MRexperiment"': no definition for class "MRexperiment"
** help
*** installing help indices
** building package indices
** installing vignettes
'interactiveDisplay.Rnw'
** testing if installed package can be loaded
Note: the specification for S3 class "AsIs" in package 'RJSONIO' seems equivalent to one from package 'BiocGenerics': not turning on duplicate class definitions for this class.
install for x64
* installing to library 'D:/biocbld/bbs-3.0-bioc/R/library'
* installing *source* package 'interactiveDisplay' ...
** testing if installed package can be loaded
Note: the specification for S3 class "AsIs" in package 'RJSONIO' seems equivalent to one from package 'BiocGenerics': not turning on duplicate class definitions for this class.
* DONE (interactiveDisplay)