genefilter 1.48.1 Bioconductor Package Maintainer
Snapshot Date: 2015-04-09 16:20:12 -0700 (Thu, 09 Apr 2015) | URL: https://hedgehog.fhcrc.org/bioconductor/branches/RELEASE_3_0/madman/Rpacks/genefilter | Last Changed Rev: 95563 / Revision: 102249 | Last Changed Date: 2014-10-15 10:46:41 -0700 (Wed, 15 Oct 2014) |
| zin1 | Linux (Ubuntu 12.04.4 LTS) / x86_64 | OK | OK | WARNINGS | |
moscato1 | Windows Server 2008 R2 Enterprise SP1 (64-bit) / x64 | OK | OK | WARNINGS | [ OK ] |
perceval | Mac OS X Snow Leopard (10.6.8) / x86_64 | OK | OK | OK | OK |
oaxaca | Mac OS X Mavericks (10.9.5) / x86_64 | OK | OK | WARNINGS | OK |
##############################################################################
##############################################################################
###
### Running command:
###
### cd genefilter.buildbin-libdir/genefilter && zip -r ../../genefilter_1.48.1.zip . & cd ../..
###
##############################################################################
##############################################################################
adding: data/ (256 bytes security) (stored 0%)
adding: data/Rdata.rdb (188 bytes security) (deflated 0%)
adding: data/Rdata.rds (188 bytes security) (deflated 1%)
adding: data/Rdata.rdx (188 bytes security) (stored 0%)
adding: DESCRIPTION (188 bytes security) (deflated 41%)
adding: doc/ (256 bytes security) (stored 0%)
adding: doc/howtogenefilter.pdf (188 bytes security) (deflated 6%)
adding: doc/howtogenefilter.R (188 bytes security) (deflated 72%)
adding: doc/howtogenefilter.Rnw (188 bytes security) (deflated 60%)
adding: doc/howtogenefinder.pdf (188 bytes security) (deflated 6%)
adding: doc/howtogenefinder.R (188 bytes security) (deflated 65%)
adding: doc/howtogenefinder.Rnw (188 bytes security) (deflated 55%)
adding: doc/independent_filtering.pdf (188 bytes security) (deflated 14%)
adding: doc/independent_filtering.R (188 bytes security) (deflated 71%)
adding: doc/independent_filtering.Rnw (188 bytes security) (deflated 65%)
adding: doc/independent_filtering_plots.pdf (188 bytes security) (deflated 11%)
adding: doc/independent_filtering_plots.R (188 bytes security) (deflated 66%)
adding: doc/independent_filtering_plots.Rnw (188 bytes security) (deflated 59%)
adding: doc/index.html (188 bytes security) (deflated 74%)
adding: help/ (256 bytes security) (stored 0%)
adding: help/aliases.rds (188 bytes security) (stored 0%)
adding: help/AnIndex (188 bytes security) (deflated 77%)
adding: help/genefilter.rdb (188 bytes security) (deflated 1%)
adding: help/genefilter.rdx (188 bytes security) (stored 0%)
adding: help/paths.rds (188 bytes security) (stored 0%)
adding: html/ (256 bytes security) (stored 0%)
adding: html/00Index.html (188 bytes security) (deflated 81%)
adding: html/R.css (188 bytes security) (deflated 70%)
adding: INDEX (188 bytes security) (deflated 65%)
adding: libs/ (256 bytes security) (stored 0%)
adding: libs/i386/ (256 bytes security) (stored 0%)
adding: libs/i386/genefilter.dll (188 bytes security) (deflated 62%)
adding: libs/x64/ (256 bytes security) (stored 0%)
adding: libs/x64/genefilter.dll (188 bytes security) (deflated 64%)
adding: MD5 (188 bytes security) (deflated 49%)
adding: Meta/ (256 bytes security) (stored 0%)
adding: Meta/data.rds (188 bytes security) (stored 0%)
adding: Meta/hsearch.rds (188 bytes security) (stored 0%)
adding: Meta/links.rds (188 bytes security) (stored 0%)
adding: Meta/nsInfo.rds (188 bytes security) (stored 0%)
adding: Meta/package.rds (188 bytes security) (stored 0%)
adding: Meta/Rd.rds (188 bytes security) (stored 0%)
adding: Meta/vignette.rds (188 bytes security) (stored 0%)
adding: NAMESPACE (188 bytes security) (deflated 70%)
adding: R/ (256 bytes security) (stored 0%)
adding: R/genefilter (188 bytes security) (deflated 41%)
adding: R/genefilter.rdb (188 bytes security) (deflated 37%)
adding: R/genefilter.rdx (188 bytes security) (deflated 0%)
adding: wFun/ (256 bytes security) (stored 0%)
adding: wFun/Anova.xml (188 bytes security) (deflated 68%)
adding: wFun/coxfilter.xml (188 bytes security) (deflated 72%)
adding: wFun/cv.xml (188 bytes security) (deflated 70%)
adding: wFun/gapFilter.xml (188 bytes security) (deflated 79%)
adding: wFun/kOverA.xml (188 bytes security) (deflated 69%)
adding: wFun/maxA.xml (188 bytes security) (deflated 59%)
adding: wFun/pOverA.xml (188 bytes security) (deflated 69%)
adding: wFun/ttest.xml (188 bytes security) (deflated 68%)