flowWorkspace 3.12.06 Greg Finak ,Mike Jiang
Snapshot Date: 2015-04-09 16:20:12 -0700 (Thu, 09 Apr 2015) | URL: https://hedgehog.fhcrc.org/bioconductor/branches/RELEASE_3_0/madman/Rpacks/flowWorkspace | Last Changed Rev: 100927 / Revision: 102249 | Last Changed Date: 2015-03-20 10:30:59 -0700 (Fri, 20 Mar 2015) |
| zin1 | Linux (Ubuntu 12.04.4 LTS) / x86_64 | OK | OK | WARNINGS | |
moscato1 | Windows Server 2008 R2 Enterprise SP1 (64-bit) / x64 | OK | OK | WARNINGS | [ OK ] |
perceval | Mac OS X Snow Leopard (10.6.8) / x86_64 | OK | OK | WARNINGS | OK |
oaxaca | Mac OS X Mavericks (10.9.5) / x86_64 | OK | OK | WARNINGS | OK |
##############################################################################
##############################################################################
###
### Running command:
###
### cd flowWorkspace.buildbin-libdir/flowWorkspace && zip -r ../../flowWorkspace_3.12.06.zip . & cd ../..
###
##############################################################################
##############################################################################
adding: cppTest/ (256 bytes security) (stored 0%)
adding: cppTest/unitTest/ (256 bytes security) (stored 0%)
adding: cppTest/unitTest/computeCalibrationTable.cpp (188 bytes security) (deflated 36%)
adding: cppTest/unitTest/cpConstructorTest.cpp (188 bytes security) (deflated 67%)
adding: cppTest/unitTest/gatingSet_test.cpp (188 bytes security) (deflated 70%)
adding: cppTest/unitTest/ncdfFlow.cpp (188 bytes security) (deflated 68%)
adding: cppTest/unitTest/ncdfFlow.hpp (188 bytes security) (deflated 58%)
adding: cppTest/unitTest/ncdf_test.cpp (188 bytes security) (deflated 48%)
adding: cppTest/unitTest/spline_test.cpp (188 bytes security) (deflated 56%)
adding: cppTest/unitTest/src.cpp (188 bytes security) (deflated 75%)
adding: cppTest/unitTest/testSuite.cpp (188 bytes security) (deflated 79%)
adding: cppTest/unitTest/test_header.hpp (188 bytes security) (deflated 61%)
adding: DESCRIPTION (188 bytes security) (deflated 48%)
adding: doc/ (256 bytes security) (stored 0%)
adding: doc/flowWorkspace.pdf (188 bytes security) (deflated 20%)
adding: doc/flowWorkspace.R (188 bytes security) (deflated 83%)
adding: doc/flowWorkspace.Rnw (188 bytes security) (deflated 62%)
adding: doc/HowToMergeGatingSet.html (188 bytes security) (deflated 54%)
adding: doc/HowToMergeGatingSet.R (188 bytes security) (deflated 73%)
adding: doc/HowToMergeGatingSet.Rmd (188 bytes security) (deflated 60%)
adding: doc/index.html (188 bytes security) (deflated 72%)
adding: doc/plotGate.html (188 bytes security) (deflated 30%)
adding: doc/plotGate.R (188 bytes security) (deflated 74%)
adding: doc/plotGate.Rmd (188 bytes security) (deflated 69%)
adding: extdata/ (256 bytes security) (stored 0%)
adding: extdata/empty_workspace_9.2.xml (188 bytes security) (deflated 56%)
adding: help/ (256 bytes security) (stored 0%)
adding: help/aliases.rds (188 bytes security) (stored 0%)
adding: help/AnIndex (188 bytes security) (deflated 83%)
adding: help/flowWorkspace.rdb (188 bytes security) (deflated 2%)
adding: help/flowWorkspace.rdx (188 bytes security) (stored 0%)
adding: help/paths.rds (188 bytes security) (stored 0%)
adding: html/ (256 bytes security) (stored 0%)
adding: html/00Index.html (188 bytes security) (deflated 85%)
adding: html/R.css (188 bytes security) (deflated 70%)
adding: INDEX (188 bytes security) (deflated 75%)
adding: javascript/ (256 bytes security) (stored 0%)
adding: javascript/showPlot.js (188 bytes security) (deflated 58%)
adding: libs/ (256 bytes security) (stored 0%)
adding: libs/i386/ (256 bytes security) (stored 0%)
adding: libs/i386/flowWorkspace.dll (188 bytes security) (deflated 71%)
adding: libs/x64/ (256 bytes security) (stored 0%)
adding: libs/x64/flowWorkspace.dll (188 bytes security) (deflated 73%)
adding: MD5 (188 bytes security) (deflated 52%)
adding: Meta/ (256 bytes security) (stored 0%)
adding: Meta/hsearch.rds (188 bytes security) (stored 0%)
adding: Meta/links.rds (188 bytes security) (stored 0%)
adding: Meta/nsInfo.rds (188 bytes security) (stored 0%)
adding: Meta/package.rds (188 bytes security) (stored 0%)
adding: Meta/Rd.rds (188 bytes security) (stored 0%)
adding: Meta/vignette.rds (188 bytes security) (stored 0%)
adding: NAMESPACE (188 bytes security) (deflated 77%)
adding: NEWS (188 bytes security) (deflated 54%)
adding: R/ (256 bytes security) (stored 0%)
adding: R/flowWorkspace (188 bytes security) (deflated 41%)
adding: R/flowWorkspace.rdb (188 bytes security) (deflated 37%)
adding: R/flowWorkspace.rdx (188 bytes security) (deflated 2%)
adding: tests/ (256 bytes security) (stored 0%)
adding: tests/expect_result/ (256 bytes security) (stored 0%)
adding: tests/expect_result/cv_gh.rds (188 bytes security) (stored 0%)
adding: tests/expect_result/cv_gs.csv (188 bytes security) (deflated 71%)
adding: tests/expect_result/flowJoWorkspace_expect.rds (188 bytes security) (deflated 5%)
adding: tests/expect_result/getAllDescendants_cd3_gh.rds (188 bytes security) (stored 0%)
adding: tests/expect_result/getAllDescendants_cd4_gh.rds (188 bytes security) (stored 0%)
adding: tests/expect_result/getAllDescendants_cd8_gh.rds (188 bytes security) (stored 0%)
adding: tests/expect_result/getAxisLabels_gh.rds (188 bytes security) (stored 0%)
adding: tests/expect_result/getCompensationMatrices_gh.rds (188 bytes security) (stored 0%)
adding: tests/expect_result/getData_COMPASS_gs.rds (188 bytes security) (deflated 1%)
adding: tests/expect_result/getGate_gs.rds (188 bytes security) (stored 0%)
adding: tests/expect_result/getGate_gs_ellipse.rds (188 bytes security) (stored 0%)
adding: tests/expect_result/getGate_gs_polygon.rds (188 bytes security) (stored 0%)
adding: tests/expect_result/getGraph_gh.rds (188 bytes security) (stored 0%)
adding: tests/expect_result/getIndiceMat_gh.rds (188 bytes security) (deflated 1%)
adding: tests/expect_result/getIndices_gs.rds (188 bytes security) (deflated 1%)
adding: tests/expect_result/getIndice_singlet_gh.rds (188 bytes security) (deflated 1%)
adding: tests/expect_result/getNodes_gh.rds (188 bytes security) (stored 0%)
adding: tests/expect_result/getPopStats_gh.csv (188 bytes security) (deflated 65%)
adding: tests/expect_result/getPopStats_gs.csv (188 bytes security) (deflated 75%)
adding: tests/expect_result/getTransformations_gh.rds (188 bytes security) (deflated 5%)
adding: tests/expect_result/kw_gh.rds (188 bytes security) (stored 0%)
adding: tests/expect_result/kw_gs.rds (188 bytes security) (stored 0%)
adding: tests/expect_result/layoutGraph_gh.rds (188 bytes security) (stored 0%)
adding: tests/flowJoWorkspace-testSuite.R (188 bytes security) (deflated 78%)
adding: tests/GatingHierarchy-testSuite.R (188 bytes security) (deflated 81%)
adding: tests/GatingSet-testSuite.R (188 bytes security) (deflated 76%)
adding: tests/GatingSetList-testSuite.R (188 bytes security) (deflated 70%)
adding: tests/InternalTestSuite.R (188 bytes security) (deflated 87%)
adding: tests/test-archive.R (188 bytes security) (deflated 69%)
adding: tests/test-filterObject.R (188 bytes security) (deflated 74%)
adding: tests/test-misc.R (188 bytes security) (deflated 83%)
adding: tests/test-parseWorkspace.R (188 bytes security) (deflated 61%)