fabia 2.12.0 Sepp Hochreiter
Snapshot Date: 2015-04-09 16:20:12 -0700 (Thu, 09 Apr 2015) | URL: https://hedgehog.fhcrc.org/bioconductor/branches/RELEASE_3_0/madman/Rpacks/fabia | Last Changed Rev: 95439 / Revision: 102249 | Last Changed Date: 2014-10-13 14:38:33 -0700 (Mon, 13 Oct 2014) |
| zin1 | Linux (Ubuntu 12.04.4 LTS) / x86_64 | OK | OK | OK | |
moscato1 | Windows Server 2008 R2 Enterprise SP1 (64-bit) / x64 | [ OK ] | OK | OK | OK |
perceval | Mac OS X Snow Leopard (10.6.8) / x86_64 | OK | OK | OK | OK |
oaxaca | Mac OS X Mavericks (10.9.5) / x86_64 | OK | OK | OK | OK |
##############################################################################
##############################################################################
###
### Running command:
###
### C:\cygwin\bin\curl.exe -O http://zin1/BBS/3.0/bioc/src/contrib/fabia_2.12.0.tar.gz && D:\biocbld\bbs-3.0-bioc\R\bin\R.exe CMD INSTALL --merge-multiarch fabia_2.12.0.tar.gz && rm fabia_2.12.0.tar.gz
###
##############################################################################
##############################################################################
% Total % Received % Xferd Average Speed Time Time Time Current
Dload Upload Total Spent Left Speed
0 0 0 0 0 0 0 0 --:--:-- --:--:-- --:--:-- 0
100 228k 100 228k 0 0 9328k 0 --:--:-- --:--:-- --:--:-- 11.7M
install for i386
* installing to library 'D:/biocbld/bbs-3.0-bioc/R/library'
* installing *source* package 'fabia' ...
** libs
running 'src/Makefile.win' ...
rm -f fabia.o fabia.dll *.a *.o *.so *.dll
gcc -m32 -c fabiac.c -o fabia.o -I"D:/biocbld/BBS-3˜1.0-B/R/include" -Wall -O3
gcc -m32 -shared -s -static-libgcc fabia.o -L"D:/biocbld/BBS-3˜1.0-B/R/bin/i386" -lR -o fabia.dll
rm -f fabia.o *.a *.o *.so
installing to D:/biocbld/bbs-3.0-bioc/R/library/fabia/libs/i386
** R
** demo
** inst
** preparing package for lazy loading
Creating a generic function for 'summary' from package 'base' in package 'fabia'
Creating a generic function for 'plot' from package 'graphics' in package 'fabia'
** help
*** installing help indices
** building package indices
** installing vignettes
** testing if installed package can be loaded
install for x64
* installing to library 'D:/biocbld/bbs-3.0-bioc/R/library'
* installing *source* package 'fabia' ...
** libs
running 'src/Makefile.win' ...
rm -f fabia.o fabia.dll *.a *.o *.so *.dll
gcc -m64 -c fabiac.c -o fabia.o -I"D:/biocbld/BBS-3˜1.0-B/R/include" -Wall -O3
gcc -m64 -shared -s -static-libgcc fabia.o -L"D:/biocbld/BBS-3˜1.0-B/R/bin/x64" -lR -o fabia.dll
rm -f fabia.o *.a *.o *.so
installing to D:/biocbld/bbs-3.0-bioc/R/library/fabia/libs/x64
** testing if installed package can be loaded
* DONE (fabia)