clusterProfiler 2.0.1 Guangchuang Yu
 | Snapshot Date: 2015-04-09 16:20:12 -0700 (Thu, 09 Apr 2015) |  | URL: https://hedgehog.fhcrc.org/bioconductor/branches/RELEASE_3_0/madman/Rpacks/clusterProfiler |  | Last Changed Rev: 99848 / Revision: 102249 |  | Last Changed Date: 2015-02-26 02:32:23 -0800 (Thu, 26 Feb 2015) |  
  | zin1  | Linux (Ubuntu 12.04.4 LTS) / x86_64  |  OK  |  OK  |  OK  |  | 
| moscato1  | Windows Server 2008 R2 Enterprise SP1 (64-bit) / x64  |  OK  |  OK  |  OK  | [ OK ] | 
| perceval  | Mac OS X Snow Leopard (10.6.8) / x86_64  |  OK  |  OK  |  OK  |  OK  | 
| oaxaca  | Mac OS X Mavericks (10.9.5) / x86_64  |  OK  |  OK  |  OK  |  OK  | 
##############################################################################
##############################################################################
###
### Running command:
###
###   cd clusterProfiler.buildbin-libdir/clusterProfiler && zip -r ../../clusterProfiler_2.0.1.zip . & cd ../..
###
##############################################################################
##############################################################################
  adding: CITATION (188 bytes security) (deflated 46%)
  adding: data/ (256 bytes security) (stored 0%)
  adding: data/gcSample.rda (188 bytes security) (stored 0%)
  adding: DESCRIPTION (188 bytes security) (deflated 40%)
  adding: doc/ (256 bytes security) (stored 0%)
  adding: doc/clusterProfiler.pdf (188 bytes security) (deflated 19%)
  adding: doc/clusterProfiler.R (188 bytes security) (deflated 72%)
  adding: doc/clusterProfiler.Rnw (188 bytes security) (deflated 64%)
  adding: doc/index.html (188 bytes security) (deflated 59%)
  adding: extdata/ (256 bytes security) (stored 0%)
  adding: extdata/D39/ (256 bytes security) (stored 0%)
  adding: extdata/D39/EG2ALLGO.rda (188 bytes security) (stored 0%)
  adding: extdata/D39/EG2GO.rda (188 bytes security) (stored 0%)
  adding: extdata/D39/geneTable.rda (188 bytes security) (stored 0%)
  adding: extdata/D39/GO2ALLEG.rda (188 bytes security) (stored 0%)
  adding: extdata/D39/GO2EG.rda (188 bytes security) (stored 0%)
  adding: extdata/D39/proteinTable.rda (188 bytes security) (deflated 12%)
  adding: extdata/for_unsupported.html (188 bytes security) (deflated 64%)
  adding: extdata/for_unsupported.md (188 bytes security) (deflated 66%)
  adding: extdata/for_unsupported.rmd (188 bytes security) (deflated 56%)
  adding: extdata/M5005/ (256 bytes security) (stored 0%)
  adding: extdata/M5005/EG2ALLGO.rda (188 bytes security) (stored 0%)
  adding: extdata/M5005/EG2GO.rda (188 bytes security) (stored 0%)
  adding: extdata/M5005/geneTable.rda (188 bytes security) (stored 0%)
  adding: extdata/M5005/GO2ALLEG.rda (188 bytes security) (stored 0%)
  adding: extdata/M5005/GO2EG.rda (188 bytes security) (stored 0%)
  adding: extdata/NC_007297.gff (188 bytes security) (deflated 82%)
  adding: extdata/rmd2pdf.R (188 bytes security) (deflated 43%)
  adding: help/ (256 bytes security) (stored 0%)
  adding: help/aliases.rds (188 bytes security) (stored 0%)
  adding: help/AnIndex (188 bytes security) (deflated 70%)
  adding: help/clusterProfiler.rdb (188 bytes security) (deflated 2%)
  adding: help/clusterProfiler.rdx (188 bytes security) (stored 0%)
  adding: help/paths.rds (188 bytes security) (stored 0%)
  adding: html/ (256 bytes security) (stored 0%)
  adding: html/00Index.html (188 bytes security) (deflated 79%)
  adding: html/R.css (188 bytes security) (deflated 70%)
  adding: INDEX (188 bytes security) (deflated 74%)
  adding: MD5 (188 bytes security) (deflated 48%)
  adding: Meta/ (256 bytes security) (stored 0%)
  adding: Meta/data.rds (188 bytes security) (stored 0%)
  adding: Meta/hsearch.rds (188 bytes security) (stored 0%)
  adding: Meta/links.rds (188 bytes security) (stored 0%)
  adding: Meta/nsInfo.rds (188 bytes security) (stored 0%)
  adding: Meta/package.rds (188 bytes security) (stored 0%)
  adding: Meta/Rd.rds (188 bytes security) (stored 0%)
  adding: Meta/vignette.rds (188 bytes security) (stored 0%)
  adding: NAMESPACE (188 bytes security) (deflated 74%)
  adding: NEWS (188 bytes security) (deflated 69%)
  adding: R/ (256 bytes security) (stored 0%)
  adding: R/clusterProfiler (188 bytes security) (deflated 41%)
  adding: R/clusterProfiler.rdb (188 bytes security) (deflated 30%)
  adding: R/clusterProfiler.rdx (188 bytes security) (stored 0%)