clipper 1.6.2 Paolo Martini
Snapshot Date: 2015-04-09 16:20:12 -0700 (Thu, 09 Apr 2015) | URL: https://hedgehog.fhcrc.org/bioconductor/branches/RELEASE_3_0/madman/Rpacks/clipper | Last Changed Rev: 97277 / Revision: 102249 | Last Changed Date: 2014-12-02 07:35:04 -0800 (Tue, 02 Dec 2014) |
| zin1 | Linux (Ubuntu 12.04.4 LTS) / x86_64 | OK | OK | OK | |
moscato1 | Windows Server 2008 R2 Enterprise SP1 (64-bit) / x64 | [ OK ] | OK | OK | OK |
perceval | Mac OS X Snow Leopard (10.6.8) / x86_64 | OK | OK | OK | OK |
oaxaca | Mac OS X Mavericks (10.9.5) / x86_64 | OK | OK | OK | OK |
##############################################################################
##############################################################################
###
### Running command:
###
### C:\cygwin\bin\curl.exe -O http://zin1/BBS/3.0/bioc/src/contrib/clipper_1.6.2.tar.gz && D:\biocbld\bbs-3.0-bioc\R\bin\R.exe CMD INSTALL --merge-multiarch clipper_1.6.2.tar.gz && rm clipper_1.6.2.tar.gz
###
##############################################################################
##############################################################################
% Total % Received % Xferd Average Speed Time Time Time Current
Dload Upload Total Spent Left Speed
0 0 0 0 0 0 0 0 --:--:-- --:--:-- --:--:-- 0
0 1849k 0 5588 0 0 448k 0 0:00:04 --:--:-- 0:00:04 779k
100 1849k 100 1849k 0 0 64.2M 0 --:--:-- --:--:-- --:--:-- 78.5M
install for i386
* installing to library 'D:/biocbld/bbs-3.0-bioc/R/library'
* installing *source* package 'clipper' ...
** R
** inst
** preparing package for lazy loading
** help
*** installing help indices
** building package indices
** installing vignettes
'clipper.Rnw' using 'UTF-8'
** testing if installed package can be loaded
install for x64
* installing to library 'D:/biocbld/bbs-3.0-bioc/R/library'
* installing *source* package 'clipper' ...
** testing if installed package can be loaded
* DONE (clipper)