chipseq 1.16.0 Bioconductor Package Maintainer
 | Snapshot Date: 2015-04-09 16:20:12 -0700 (Thu, 09 Apr 2015) |  | URL: https://hedgehog.fhcrc.org/bioconductor/branches/RELEASE_3_0/madman/Rpacks/chipseq |  | Last Changed Rev: 95439 / Revision: 102249 |  | Last Changed Date: 2014-10-13 14:38:33 -0700 (Mon, 13 Oct 2014) |  
  | zin1  | Linux (Ubuntu 12.04.4 LTS) / x86_64  | [ OK ] |  OK  |  WARNINGS  |  | 
| moscato1  | Windows Server 2008 R2 Enterprise SP1 (64-bit) / x64  |  OK  |  OK  |  WARNINGS  |  OK  | 
| perceval  | Mac OS X Snow Leopard (10.6.8) / x86_64  |  OK  |  OK  |  WARNINGS  |  OK  | 
| oaxaca  | Mac OS X Mavericks (10.9.5) / x86_64  |  OK  |  OK  |  WARNINGS  |  OK  | 
##############################################################################
##############################################################################
###
### Running command:
###
###   /home/biocbuild/bbs-3.0-bioc/R/bin/R CMD INSTALL chipseq
###
##############################################################################
##############################################################################
* installing to library ‘/home/biocbuild/bbs-3.0-bioc/R/library’
* installing *source* package ‘chipseq’ ...
** libs
gcc -std=gnu99 -I/home/biocbuild/bbs-3.0-bioc/R/include -DNDEBUG  -I/usr/local/include    -fpic  -g -O2  -Wall -c rlesumprod.c -o rlesumprod.o
gcc -std=gnu99 -shared -L/home/biocbuild/bbs-3.0-bioc/R/lib -L/usr/local/lib -o chipseq.so rlesumprod.o -L/home/biocbuild/bbs-3.0-bioc/R/lib -lR
installing to /home/biocbuild/bbs-3.0-bioc/R/library/chipseq/libs
** R
** data
** inst
** preparing package for lazy loading
** help
*** installing help indices
** building package indices
** installing vignettes
** testing if installed package can be loaded
* DONE (chipseq)