chimera 1.8.5 Raffaele A Calogero
Snapshot Date: 2015-04-09 16:20:12 -0700 (Thu, 09 Apr 2015) | URL: https://hedgehog.fhcrc.org/bioconductor/branches/RELEASE_3_0/madman/Rpacks/chimera | Last Changed Rev: 98706 / Revision: 102249 | Last Changed Date: 2015-01-26 11:38:47 -0800 (Mon, 26 Jan 2015) |
| zin1 | Linux (Ubuntu 12.04.4 LTS) / x86_64 | OK | OK | OK | |
moscato1 | Windows Server 2008 R2 Enterprise SP1 (64-bit) / x64 | OK | OK | OK | OK |
perceval | Mac OS X Snow Leopard (10.6.8) / x86_64 | OK | OK | OK | OK |
oaxaca | Mac OS X Mavericks (10.9.5) / x86_64 | OK | OK | [ OK ] | OK |
##############################################################################
##############################################################################
###
### Running command:
###
### /Library/Frameworks/R.framework/Versions/Current/Resources/bin/R CMD check --no-vignettes --timings --no-multiarch chimera_1.8.5.tar.gz
###
##############################################################################
##############################################################################
* using log directory ‘/Users/biocbuild/bbs-3.0-bioc/meat/chimera.Rcheck’
* using R version 3.1.3 (2015-03-09)
* using platform: x86_64-apple-darwin13.4.0 (64-bit)
* using session charset: UTF-8
* using option ‘--no-vignettes’
* checking for file ‘chimera/DESCRIPTION’ ... OK
* checking extension type ... Package
* this is package ‘chimera’ version ‘1.8.5’
* checking package namespace information ... OK
* checking package dependencies ... NOTE
Package which this enhances but not available for checking: ‘Rsubread’
Depends: includes the non-default packages:
‘Biobase’ ‘GenomicRanges’ ‘Rsamtools’ ‘GenomicAlignments’
‘AnnotationDbi’ ‘org.Hs.eg.db’ ‘BSgenome.Hsapiens.UCSC.hg19’
‘TxDb.Hsapiens.UCSC.hg19.knownGene’
Adding so many packages to the search path is excessive and importing
selectively is preferable.
* checking if this is a source package ... OK
* checking if there is a namespace ... OK
* checking for hidden files and directories ... OK
* checking for portable file names ... OK
* checking for sufficient/correct file permissions ... OK
* checking whether package ‘chimera’ can be installed ... [30s/31s] OK
* checking installed package size ... NOTE
installed size is 6.3Mb
sub-directories of 1Mb or more:
examples 5.7Mb
* checking package directory ... OK
* checking ‘build’ directory ... OK
* checking DESCRIPTION meta-information ... OK
* checking top-level files ... OK
* checking for left-over files ... OK
* checking index information ... OK
* checking package subdirectories ... OK
* checking R files for non-ASCII characters ... OK
* checking R files for syntax errors ... OK
* checking whether the package can be loaded ... OK
* checking whether the package can be loaded with stated dependencies ... OK
* checking whether the package can be unloaded cleanly ... OK
* checking whether the namespace can be loaded with stated dependencies ... OK
* checking whether the namespace can be unloaded cleanly ... OK
* checking dependencies in R code ... NOTE
'library' or 'require' calls in package code:
‘BSgenome.Mmusculus.UCSC.mm9’ ‘BiocParallel’ ‘Rsubread’
‘org.Mm.eg.db’
Please use :: or requireNamespace() instead.
See section 'Suggested packages' in the 'Writing R Extensions' manual.
* checking S3 generic/method consistency ... OK
* checking replacement functions ... OK
* checking foreign function calls ... OK
* checking R code for possible problems ... NOTE
.buildFusion: no visible global function definition for ‘DNAString’
.gfWrap: no visible global function definition for ‘writeXStringSet’
.rsImport: no visible global function definition for ‘MulticoreParam’
.rsImport: no visible global function definition for ‘bplapply’
bam2fastq: no visible global function definition for ‘MulticoreParam’
bam2fastq: no visible global function definition for ‘bplapply’
chimeraSeqSet: no visible global function definition for
‘MulticoreParam’
chimeraSeqSet: no visible global function definition for ‘bplapply’
chimeraSeqSet : <anonymous>: no visible global function definition for
‘DNAStringSet’
chimeraSeqs: no visible global function definition for ‘DNAStringSet’
defuseTPTN : .my.newfset: no visible global function definition for
‘DNAStringSet’
filterList: no visible global function definition for ‘MulticoreParam’
filterList: no visible global function definition for ‘bplapply’
fusionName: no visible global function definition for ‘MulticoreParam’
fusionName: no visible global function definition for ‘bplapply’
fusionPeptides: no visible global function definition for ‘translate’
fusionPeptides: no visible global function definition for ‘AAStringSet’
fusionPeptides : <anonymous>: no visible global function definition for
‘pairwiseAlignment’
fusionPeptides: no visible global function definition for ‘pattern’
fusionPeptides: no visible global function definition for
‘matchPattern’
gapfillerRun: no visible global function definition for
‘readDNAStringSet’
gapfillerRun: no visible global function definition for
‘pairwiseAlignment’
gapfillerRun: no visible global function definition for ‘DNAStringSet’
gapfillerWrap: no visible global function definition for
‘MulticoreParam’
gapfillerWrap: no visible global function definition for ‘bplapply’
newfSet: no visible global function definition for ‘DNAStringSet’
starReads: no visible global function definition for ‘MulticoreParam’
subreadRun: no visible global function definition for ‘bowtie_build’
subreadRun: no visible global function definition for ‘bowtie’
supportingReads: no visible global function definition for
‘MulticoreParam’
supportingReads: no visible global function definition for ‘bplapply’
* checking Rd files ... OK
* checking Rd metadata ... OK
* checking Rd cross-references ... OK
* checking for missing documentation entries ... OK
* checking for code/documentation mismatches ... OK
* checking Rd \usage sections ... OK
* checking Rd contents ... OK
* checking for unstated dependencies in examples ... OK
* checking line endings in C/C++/Fortran sources/headers ... OK
* checking compiled code ... OK
* checking sizes of PDF files under ‘inst/doc’ ... OK
* checking installed files from ‘inst/doc’ ... OK
* checking files in ‘vignettes’ ... OK
* checking examples ... [341s/345s] OK
Examples with CPU or elapsed time > 5s
user system elapsed
plotCoverage 83.361 0.290 84.200
fusionPeptides 80.602 1.812 83.007
chimeraSeqSet 41.282 0.789 42.241
chimeraSeqs 26.860 0.337 27.467
class.fSet 26.835 0.354 27.286
breakpointOverlaps 17.111 0.321 18.063
defuseTPTN 9.004 0.012 9.034
fusionName 8.043 0.031 8.176
filterList 7.898 0.044 7.985
is.fSet 7.686 0.044 7.777
importFusionData 7.154 0.043 7.230
supportingReads 7.136 0.031 7.329
* checking for unstated dependencies in vignettes ... NOTE
'library' or 'require' call not declared from: ‘xtable’
* checking package vignettes in ‘inst/doc’ ... OK
* checking running R code from vignettes ... SKIPPED
* checking re-building of vignette outputs ... SKIPPED
* checking PDF version of manual ... OK
* DONE
NOTE: There were 5 notes.
See
‘/Users/biocbuild/bbs-3.0-bioc/meat/chimera.Rcheck/00check.log’
for details.
* installing *source* package ‘chimera’ ...
** libs
clang++ -I/Library/Frameworks/R.framework/Resources/include -DNDEBUG -I/usr/local/include -I/usr/local/include/freetype2 -I/opt/X11/include -fPIC -Wall -mtune=core2 -g -O2 -c StarParser.cpp -o StarParser.o
clang++ -dynamiclib -Wl,-headerpad_max_install_names -undefined dynamic_lookup -single_module -multiply_defined suppress -L/Library/Frameworks/R.framework/Resources/lib -L/usr/local/lib -o chimera.so StarParser.o -F/Library/Frameworks/R.framework/.. -framework R -Wl,-framework -Wl,CoreFoundation
installing to /Users/biocbuild/bbs-3.0-bioc/meat/chimera.Rcheck/chimera/libs
** R
** inst
** preparing package for lazy loading
** help
*** installing help indices
** building package indices
** installing vignettes
** testing if installed package can be loaded
* DONE (chimera)