beadarray 2.16.0 Mark Dunning
 | Snapshot Date: 2015-04-09 16:20:12 -0700 (Thu, 09 Apr 2015) |  | URL: https://hedgehog.fhcrc.org/bioconductor/branches/RELEASE_3_0/madman/Rpacks/beadarray |  | Last Changed Rev: 95439 / Revision: 102249 |  | Last Changed Date: 2014-10-13 14:38:33 -0700 (Mon, 13 Oct 2014) |  
  | zin1  | Linux (Ubuntu 12.04.4 LTS) / x86_64  |  OK  |  OK  |  OK  |  | 
| moscato1  | Windows Server 2008 R2 Enterprise SP1 (64-bit) / x64  |  OK  |  OK  |  OK  |  OK  | 
| perceval  | Mac OS X Snow Leopard (10.6.8) / x86_64  |  OK  |  OK  | [ OK ] |  OK  | 
| oaxaca  | Mac OS X Mavericks (10.9.5) / x86_64  |  OK  |  OK  |  OK  |  OK  | 
##############################################################################
##############################################################################
###
### Running command:
###
###   /Library/Frameworks/R.framework/Versions/Current/Resources/bin/R CMD check --no-vignettes --timings --no-multiarch beadarray_2.16.0.tar.gz
###
##############################################################################
##############################################################################
* using log directory ‘/Users/biocbuild/bbs-3.0-bioc/meat/beadarray.Rcheck’
* using R version 3.1.3 (2015-03-09)
* using platform: x86_64-apple-darwin10.8.0 (64-bit)
* using session charset: UTF-8
* using option ‘--no-vignettes’
* checking for file ‘beadarray/DESCRIPTION’ ... OK
* this is package ‘beadarray’ version ‘2.16.0’
* checking package namespace information ... OK
* checking package dependencies ... OK
* checking if this is a source package ... OK
* checking if there is a namespace ... OK
* checking for hidden files and directories ... OK
* checking for portable file names ... OK
* checking for sufficient/correct file permissions ... OK
* checking whether package ‘beadarray’ can be installed ... [26s/32s] OK
* checking installed package size ... OK
* checking package directory ... OK
* checking ‘build’ directory ... OK
* checking DESCRIPTION meta-information ... OK
* checking top-level files ... OK
* checking for left-over files ... OK
* checking index information ... OK
* checking package subdirectories ... OK
* checking R files for non-ASCII characters ... OK
* checking R files for syntax errors ... OK
* checking whether the package can be loaded ... OK
* checking whether the package can be loaded with stated dependencies ... OK
* checking whether the package can be unloaded cleanly ... OK
* checking whether the namespace can be loaded with stated dependencies ... OK
* checking whether the namespace can be unloaded cleanly ... OK
* checking dependencies in R code ... NOTE
'library' or 'require' calls in package code:
  ‘affy’ ‘ggbio’ ‘hwriter’ ‘lumi’ ‘Nozzle.R1’ ‘vsn’
  Please use :: or requireNamespace() instead.
  See section 'Suggested packages' in the 'Writing R Extensions' manual.
Packages in Depends field not imported from:
  ‘ggplot2’ ‘methods’
  These packages need to be imported from (in the NAMESPACE file)
  for when this namespace is loaded but not attached.
Unexported objects imported by ':::' calls:
  ‘BeadDataPackR:::combineFiles’ ‘BeadDataPackR:::readHeader’
  ‘Biobase:::assayDataStorageMode’
  See the note in ?`:::` about the use of this operator.
There are ::: calls to the package's namespace in its code. A package
  almost never needs to use ::: for its own objects:
  ‘illuminaForeground_6x6’ ‘locsIndicesToGrid’ ‘obtainLocs’
  ‘simpleXMLparse’
* checking S3 generic/method consistency ... OK
* checking replacement functions ... OK
* checking foreign function calls ... NOTE
Foreign function call to a different package:
  .Call("roundLocsFileValues", ..., PACKAGE = "BeadDataPackR")
See chapter ‘System and foreign language interfaces’ in the ‘Writing R
Extensions’ manual.
* checking R code for possible problems ... NOTE
combinedControlPlot: no visible binding for global variable ‘Control’
combinedControlPlot: no visible binding for global variable ‘Negative’
combinedControlPlot: no visible global function definition for ‘ggplot’
combinedControlPlot: no visible global function definition for ‘aes’
combinedControlPlot: no visible binding for global variable ‘ID’
combinedControlPlot: no visible binding for global variable
  ‘Log2Intensity’
combinedControlPlot: no visible binding for global variable
  ‘ControlType’
combinedControlPlot: no visible global function definition for
  ‘geom_boxplot’
combinedControlPlot: no visible global function definition for
  ‘geom_hline’
combinedControlPlot: no visible global function definition for
  ‘facet_wrap’
combinedControlPlot: no visible global function definition for
  ‘geom_point’
combinedControlPlot: no visible binding for global variable ‘Masked’
createGEOMeta: no visible binding for global variable ‘metaTemplate’
expressionQCPipeline: no visible global function definition for
  ‘ggsave’
expressionQCPipeline: no visible global function definition for
  ‘openPage’
expressionQCPipeline: no visible global function definition for
  ‘hwrite’
expressionQCPipeline: no visible global function definition for
  ‘hwriteImage’
expressionQCPipeline: no visible global function definition for
  ‘closePage’
getPlatformSigs: no visible global function definition for
  ‘lumiHumanIDMapping_dbconn’
getPlatformSigs: no visible global function definition for
  ‘dbListTables’
getPlatformSigs: no visible global function definition for
  ‘dbListFields’
getPlatformSigs: no visible global function definition for ‘dbGetQuery’
getPlatformSigs: no visible global function definition for
  ‘lumiMouseIDMapping_dbconn’
getPlatformSigs: no visible global function definition for
  ‘lumiRatIDMapping_dbconn’
imageplot: no visible global function definition for ‘ggplot’
imageplot: no visible global function definition for ‘aes’
imageplot: no visible binding for global variable ‘Var1’
imageplot: no visible binding for global variable ‘Var2’
imageplot: no visible binding for global variable ‘value’
imageplot: no visible global function definition for ‘geom_tile’
imageplot: no visible global function definition for
  ‘scale_fill_gradient’
imageplot: no visible global function definition for ‘theme’
imageplot: no visible global function definition for ‘element_blank’
makeReport: no visible global function definition for ‘newCustomReport’
makeReport: no visible global function definition for ‘newSection’
makeReport: no visible global function definition for ‘newTable’
makeReport: no visible global function definition for ‘newParagraph’
makeReport: no visible global function definition for ‘addTo’
makeReport: no visible global function definition for ‘autoplot’
makeReport: no visible global function definition for ‘plotIdeogram’
makeReport: no visible global function definition for ‘tracks’
makeReport: no visible global function definition for ‘ggsave’
makeReport: no visible global function definition for ‘newFigure’
makeReport: no visible binding for global variable ‘IMAGE.TYPE.RASTER’
makeReport: no visible binding for global variable ‘PROTECTION.PUBLIC’
makeReport: no visible global function definition for ‘ggplot’
makeReport: no visible global function definition for ‘aes’
makeReport: no visible binding for global variable ‘value’
makeReport: no visible global function definition for ‘geom_boxplot’
makeReport: no visible global function definition for ‘facet_wrap’
makeReport: no visible global function definition for ‘writeReport’
maplots: no visible global function definition for ‘ggplot’
maplots: no visible global function definition for ‘aes’
maplots: no visible binding for global variable ‘value.1’
maplots: no visible binding for global variable ‘value’
maplots: no visible global function definition for ‘stat_binhex’
maplots: no visible global function definition for ‘theme_bw’
maplots: no visible global function definition for ‘xlab’
maplots: no visible global function definition for ‘ylab’
maplots: no visible global function definition for ‘facet_wrap’
maplots: no visible global function definition for ‘theme’
maplots: no visible global function definition for ‘ggtitle’
normaliseIllumina: no visible global function definition for ‘lumiT’
normaliseIllumina: no visible global function definition for
  ‘normalize.qspline’
normaliseIllumina: no visible global function definition for ‘vsn2’
normaliseIllumina: no visible global function definition for ‘rsn’
outlierplot2: no visible global function definition for ‘geom_vline’
outlierplot2: no visible global function definition for ‘geom_hline’
plotBeadLocations2: no visible global function definition for ‘qplot’
plotBeadLocations2: no visible global function definition for ‘opts’
plotBeadLocations2: no visible global function definition for
  ‘theme_blank’
plotProbe: no visible global function definition for ‘autoplot’
plotProbe: no visible binding for global variable ‘genesymbol’
plotProbe: no visible global function definition for ‘tracks’
plotProbe: no visible global function definition for ‘aes’
plotProbe: no visible binding for global variable ‘PROBEQUALITY’
rankInvariantNormalise: no visible global function definition for
  ‘normalize.invariantset’
suggestAnnotation: no visible binding for global variable
  ‘platformSigs’
suggestAnnotation_Vector: no visible binding for global variable
  ‘platformSigs’
[,ExpressionSetIllumina-ANY: no visible global function definition for
  ‘assayDataEnvLock’
* checking Rd files ... OK
* checking Rd metadata ... OK
* checking Rd cross-references ... OK
* checking for missing documentation entries ... OK
* checking for code/documentation mismatches ... OK
* checking Rd \usage sections ... OK
* checking Rd contents ... OK
* checking for unstated dependencies in examples ... OK
* checking contents of ‘data’ directory ... OK
* checking data for non-ASCII characters ... OK
* checking data for ASCII and uncompressed saves ... OK
* checking line endings in C/C++/Fortran sources/headers ... OK
* checking compiled code ... OK
* checking sizes of PDF files under ‘inst/doc’ ... OK
* checking installed files from ‘inst/doc’ ... OK
* checking files in ‘vignettes’ ... OK
* checking examples ... [527s/536s] OK
Examples with CPU or elapsed time > 5s
                           user system elapsed
squeezedVarOutlierMethod 76.379  1.640  81.598
summarize                55.762  6.712  62.907
limmaDE                  36.417  0.728  37.193
calculateOutlierStats    27.230  3.538  30.792
calculateDetection       25.986  1.014  27.057
normaliseIllumina        23.584  1.497  26.732
maplots                  20.560  4.239  24.905
outlierplot              22.547  2.016  24.679
addFeatureData           17.628  0.560  18.875
makeQCTable              14.141  2.386  16.535
insertSectionData        14.076  2.332  16.446
controlProbeDetection    14.230  1.772  16.028
annotationInterface      13.716  0.941  14.883
poscontPlot              11.603  1.550  13.269
quickSummary             10.358  1.595  11.987
identifyControlBeads     10.889  0.884  11.779
showArrayMask             9.168  2.138  11.564
imageplot                 8.874  1.345  10.370
combine                   8.484  1.275   9.775
plotBeadIntensities       5.645  1.025   6.712
transformationFunctions   4.814  1.190   6.223
boxplot                   5.340  0.530   6.134
illuminaOutlierMethod     4.292  0.932   5.225
* checking for unstated dependencies in vignettes ... OK
* checking package vignettes in ‘inst/doc’ ... OK
* checking running R code from vignettes ... SKIPPED
* checking re-building of vignette outputs ... SKIPPED
* checking PDF version of manual ... OK
* DONE
NOTE: There were 3 notes.
See
  ‘/Users/biocbuild/bbs-3.0-bioc/meat/beadarray.Rcheck/00check.log’
for details.
 
* installing *source* package ‘beadarray’ ...
** libs
llvm-gcc-4.2 -arch x86_64 -std=gnu99 -I/Library/Frameworks/R.framework/Resources/include -DNDEBUG  -I/usr/local/include    -fPIC  -mtune=core2 -g -O2 -Wall  -c BASH.c -o BASH.o
llvm-gcc-4.2 -arch x86_64 -std=gnu99 -I/Library/Frameworks/R.framework/Resources/include -DNDEBUG  -I/usr/local/include    -fPIC  -mtune=core2 -g -O2 -Wall  -c HULK.c -o HULK.o
llvm-gcc-4.2 -arch x86_64 -std=gnu99 -I/Library/Frameworks/R.framework/Resources/include -DNDEBUG  -I/usr/local/include    -fPIC  -mtune=core2 -g -O2 -Wall  -c determiningGridPositions.c -o determiningGridPositions.o
llvm-gcc-4.2 -arch x86_64 -std=gnu99 -I/Library/Frameworks/R.framework/Resources/include -DNDEBUG  -I/usr/local/include    -fPIC  -mtune=core2 -g -O2 -Wall  -c findAllOutliers.c -o findAllOutliers.o
llvm-gcc-4.2 -arch x86_64 -std=gnu99 -I/Library/Frameworks/R.framework/Resources/include -DNDEBUG  -I/usr/local/include    -fPIC  -mtune=core2 -g -O2 -Wall  -c imageProcessing.c -o imageProcessing.o
imageProcessing.c: In function ‘illuminaBackground’:
imageProcessing.c:88: warning: ignoring #pragma omp parallel
imageProcessing.c: In function ‘medianBackground’:
imageProcessing.c:135: warning: ignoring #pragma omp parallel
imageProcessing.c: In function ‘illuminaSharpen’:
imageProcessing.c:244: warning: ignoring #pragma omp parallel
imageProcessing.c:251: warning: ignoring #pragma omp parallel
llvm-gcc-4.2 -arch x86_64 -std=gnu99 -dynamiclib -Wl,-headerpad_max_install_names -undefined dynamic_lookup -single_module -multiply_defined suppress -L/Library/Frameworks/R.framework/Resources/lib -L/usr/local/lib -L/usr/local/lib -o beadarray.so BASH.o HULK.o determiningGridPositions.o findAllOutliers.o imageProcessing.o -F/Library/Frameworks/R.framework/.. -framework R -Wl,-framework -Wl,CoreFoundation
installing to /Users/biocbuild/bbs-3.0-bioc/meat/beadarray.Rcheck/beadarray/libs
** R
** data
*** moving datasets to lazyload DB
** inst
** preparing package for lazy loading
** help
*** installing help indices
** building package indices
** installing vignettes
** testing if installed package can be loaded
* DONE (beadarray)