ballgown 1.0.4 Alyssa Frazee
Snapshot Date: 2015-04-09 16:20:12 -0700 (Thu, 09 Apr 2015) | URL: https://hedgehog.fhcrc.org/bioconductor/branches/RELEASE_3_0/madman/Rpacks/ballgown | Last Changed Rev: 100663 / Revision: 102249 | Last Changed Date: 2015-03-13 12:59:01 -0700 (Fri, 13 Mar 2015) |
| zin1 | Linux (Ubuntu 12.04.4 LTS) / x86_64 | OK | OK | OK | |
moscato1 | Windows Server 2008 R2 Enterprise SP1 (64-bit) / x64 | OK | OK | OK | [ OK ] |
perceval | Mac OS X Snow Leopard (10.6.8) / x86_64 | OK | OK | OK | OK |
oaxaca | Mac OS X Mavericks (10.9.5) / x86_64 | OK | OK | OK | OK |
##############################################################################
##############################################################################
###
### Running command:
###
### cd ballgown.buildbin-libdir/ballgown && zip -r ../../ballgown_1.0.4.zip . & cd ../..
###
##############################################################################
##############################################################################
adding: data/ (256 bytes security) (stored 0%)
adding: data/bg.rda (188 bytes security) (deflated 0%)
adding: DESCRIPTION (188 bytes security) (deflated 41%)
adding: doc/ (256 bytes security) (stored 0%)
adding: doc/ballgown.html (188 bytes security) (deflated 55%)
adding: doc/ballgown.R (188 bytes security) (deflated 72%)
adding: doc/ballgown.Rmd (188 bytes security) (deflated 64%)
adding: doc/index.html (188 bytes security) (deflated 56%)
adding: extdata/ (256 bytes security) (stored 0%)
adding: extdata/annot.gtf.gz (188 bytes security) (deflated 2%)
adding: extdata/hg19_genes_small.gtf.gz (188 bytes security) (deflated 5%)
adding: extdata/sample01/ (256 bytes security) (stored 0%)
adding: extdata/sample01/e2t.ctab (188 bytes security) (deflated 75%)
adding: extdata/sample01/e_data.ctab (188 bytes security) (deflated 58%)
adding: extdata/sample01/i2t.ctab (188 bytes security) (deflated 74%)
adding: extdata/sample01/i_data.ctab (188 bytes security) (deflated 62%)
adding: extdata/sample01/t_data.ctab (188 bytes security) (deflated 59%)
adding: extdata/sample02/ (256 bytes security) (stored 0%)
adding: extdata/sample02/e2t.ctab (188 bytes security) (deflated 75%)
adding: extdata/sample02/e_data.ctab (188 bytes security) (deflated 58%)
adding: extdata/sample02/i2t.ctab (188 bytes security) (deflated 74%)
adding: extdata/sample02/i_data.ctab (188 bytes security) (deflated 62%)
adding: extdata/sample02/t_data.ctab (188 bytes security) (deflated 59%)
adding: extdata/sample03/ (256 bytes security) (stored 0%)
adding: extdata/sample03/e2t.ctab (188 bytes security) (deflated 75%)
adding: extdata/sample03/e_data.ctab (188 bytes security) (deflated 58%)
adding: extdata/sample03/i2t.ctab (188 bytes security) (deflated 74%)
adding: extdata/sample03/i_data.ctab (188 bytes security) (deflated 62%)
adding: extdata/sample03/t_data.ctab (188 bytes security) (deflated 59%)
adding: extdata/sample04/ (256 bytes security) (stored 0%)
adding: extdata/sample04/e2t.ctab (188 bytes security) (deflated 75%)
adding: extdata/sample04/e_data.ctab (188 bytes security) (deflated 58%)
adding: extdata/sample04/i2t.ctab (188 bytes security) (deflated 74%)
adding: extdata/sample04/i_data.ctab (188 bytes security) (deflated 62%)
adding: extdata/sample04/t_data.ctab (188 bytes security) (deflated 59%)
adding: extdata/sample05/ (256 bytes security) (stored 0%)
adding: extdata/sample05/e2t.ctab (188 bytes security) (deflated 75%)
adding: extdata/sample05/e_data.ctab (188 bytes security) (deflated 58%)
adding: extdata/sample05/i2t.ctab (188 bytes security) (deflated 74%)
adding: extdata/sample05/i_data.ctab (188 bytes security) (deflated 62%)
adding: extdata/sample05/t_data.ctab (188 bytes security) (deflated 59%)
adding: extdata/sample06/ (256 bytes security) (stored 0%)
adding: extdata/sample06/e2t.ctab (188 bytes security) (deflated 75%)
adding: extdata/sample06/e_data.ctab (188 bytes security) (deflated 58%)
adding: extdata/sample06/i2t.ctab (188 bytes security) (deflated 74%)
adding: extdata/sample06/i_data.ctab (188 bytes security) (deflated 62%)
adding: extdata/sample06/t_data.ctab (188 bytes security) (deflated 59%)
adding: extdata/sample07/ (256 bytes security) (stored 0%)
adding: extdata/sample07/e2t.ctab (188 bytes security) (deflated 75%)
adding: extdata/sample07/e_data.ctab (188 bytes security) (deflated 58%)
adding: extdata/sample07/i2t.ctab (188 bytes security) (deflated 74%)
adding: extdata/sample07/i_data.ctab (188 bytes security) (deflated 62%)
adding: extdata/sample07/t_data.ctab (188 bytes security) (deflated 59%)
adding: extdata/sample08/ (256 bytes security) (stored 0%)
adding: extdata/sample08/e2t.ctab (188 bytes security) (deflated 75%)
adding: extdata/sample08/e_data.ctab (188 bytes security) (deflated 58%)
adding: extdata/sample08/i2t.ctab (188 bytes security) (deflated 74%)
adding: extdata/sample08/i_data.ctab (188 bytes security) (deflated 62%)
adding: extdata/sample08/t_data.ctab (188 bytes security) (deflated 59%)
adding: extdata/sample09/ (256 bytes security) (stored 0%)
adding: extdata/sample09/e2t.ctab (188 bytes security) (deflated 75%)
adding: extdata/sample09/e_data.ctab (188 bytes security) (deflated 58%)
adding: extdata/sample09/i2t.ctab (188 bytes security) (deflated 74%)
adding: extdata/sample09/i_data.ctab (188 bytes security) (deflated 62%)
adding: extdata/sample09/t_data.ctab (188 bytes security) (deflated 59%)
adding: extdata/sample10/ (256 bytes security) (stored 0%)
adding: extdata/sample10/e2t.ctab (188 bytes security) (deflated 75%)
adding: extdata/sample10/e_data.ctab (188 bytes security) (deflated 58%)
adding: extdata/sample10/i2t.ctab (188 bytes security) (deflated 74%)
adding: extdata/sample10/i_data.ctab (188 bytes security) (deflated 62%)
adding: extdata/sample10/t_data.ctab (188 bytes security) (deflated 59%)
adding: extdata/sample11/ (256 bytes security) (stored 0%)
adding: extdata/sample11/e2t.ctab (188 bytes security) (deflated 75%)
adding: extdata/sample11/e_data.ctab (188 bytes security) (deflated 58%)
adding: extdata/sample11/i2t.ctab (188 bytes security) (deflated 74%)
adding: extdata/sample11/i_data.ctab (188 bytes security) (deflated 62%)
adding: extdata/sample11/t_data.ctab (188 bytes security) (deflated 59%)
adding: extdata/sample12/ (256 bytes security) (stored 0%)
adding: extdata/sample12/e2t.ctab (188 bytes security) (deflated 75%)
adding: extdata/sample12/e_data.ctab (188 bytes security) (deflated 58%)
adding: extdata/sample12/i2t.ctab (188 bytes security) (deflated 74%)
adding: extdata/sample12/i_data.ctab (188 bytes security) (deflated 62%)
adding: extdata/sample12/t_data.ctab (188 bytes security) (deflated 59%)
adding: extdata/sample13/ (256 bytes security) (stored 0%)
adding: extdata/sample13/e2t.ctab (188 bytes security) (deflated 75%)
adding: extdata/sample13/e_data.ctab (188 bytes security) (deflated 58%)
adding: extdata/sample13/i2t.ctab (188 bytes security) (deflated 74%)
adding: extdata/sample13/i_data.ctab (188 bytes security) (deflated 62%)
adding: extdata/sample13/t_data.ctab (188 bytes security) (deflated 59%)
adding: extdata/sample14/ (256 bytes security) (stored 0%)
adding: extdata/sample14/e2t.ctab (188 bytes security) (deflated 75%)
adding: extdata/sample14/e_data.ctab (188 bytes security) (deflated 58%)
adding: extdata/sample14/i2t.ctab (188 bytes security) (deflated 74%)
adding: extdata/sample14/i_data.ctab (188 bytes security) (deflated 62%)
adding: extdata/sample14/t_data.ctab (188 bytes security) (deflated 59%)
adding: extdata/sample15/ (256 bytes security) (stored 0%)
adding: extdata/sample15/e2t.ctab (188 bytes security) (deflated 75%)
adding: extdata/sample15/e_data.ctab (188 bytes security) (deflated 58%)
adding: extdata/sample15/i2t.ctab (188 bytes security) (deflated 74%)
adding: extdata/sample15/i_data.ctab (188 bytes security) (deflated 61%)
adding: extdata/sample15/t_data.ctab (188 bytes security) (deflated 59%)
adding: extdata/sample16/ (256 bytes security) (stored 0%)
adding: extdata/sample16/e2t.ctab (188 bytes security) (deflated 75%)
adding: extdata/sample16/e_data.ctab (188 bytes security) (deflated 58%)
adding: extdata/sample16/i2t.ctab (188 bytes security) (deflated 74%)
adding: extdata/sample16/i_data.ctab (188 bytes security) (deflated 62%)
adding: extdata/sample16/t_data.ctab (188 bytes security) (deflated 59%)
adding: extdata/sample17/ (256 bytes security) (stored 0%)
adding: extdata/sample17/e2t.ctab (188 bytes security) (deflated 75%)
adding: extdata/sample17/e_data.ctab (188 bytes security) (deflated 58%)
adding: extdata/sample17/i2t.ctab (188 bytes security) (deflated 74%)
adding: extdata/sample17/i_data.ctab (188 bytes security) (deflated 62%)
adding: extdata/sample17/t_data.ctab (188 bytes security) (deflated 59%)
adding: extdata/sample18/ (256 bytes security) (stored 0%)
adding: extdata/sample18/e2t.ctab (188 bytes security) (deflated 75%)
adding: extdata/sample18/e_data.ctab (188 bytes security) (deflated 58%)
adding: extdata/sample18/i2t.ctab (188 bytes security) (deflated 74%)
adding: extdata/sample18/i_data.ctab (188 bytes security) (deflated 62%)
adding: extdata/sample18/t_data.ctab (188 bytes security) (deflated 59%)
adding: extdata/sample19/ (256 bytes security) (stored 0%)
adding: extdata/sample19/e2t.ctab (188 bytes security) (deflated 75%)
adding: extdata/sample19/e_data.ctab (188 bytes security) (deflated 58%)
adding: extdata/sample19/i2t.ctab (188 bytes security) (deflated 74%)
adding: extdata/sample19/i_data.ctab (188 bytes security) (deflated 62%)
adding: extdata/sample19/t_data.ctab (188 bytes security) (deflated 59%)
adding: extdata/sample20/ (256 bytes security) (stored 0%)
adding: extdata/sample20/e2t.ctab (188 bytes security) (deflated 75%)
adding: extdata/sample20/e_data.ctab (188 bytes security) (deflated 58%)
adding: extdata/sample20/i2t.ctab (188 bytes security) (deflated 74%)
adding: extdata/sample20/i_data.ctab (188 bytes security) (deflated 62%)
adding: extdata/sample20/t_data.ctab (188 bytes security) (deflated 59%)
adding: extdata/tiny.genes.results.gz (188 bytes security) (deflated 0%)
adding: extdata/tiny.isoforms.results.gz (188 bytes security) (deflated 0%)
adding: extdata/tiny2.genes.results.gz (188 bytes security) (deflated 0%)
adding: extdata/tiny2.isoforms.results.gz (188 bytes security) (deflated 0%)
adding: help/ (256 bytes security) (stored 0%)
adding: help/aliases.rds (188 bytes security) (stored 0%)
adding: help/AnIndex (188 bytes security) (deflated 73%)
adding: help/ballgown.rdb (188 bytes security) (deflated 2%)
adding: help/ballgown.rdx (188 bytes security) (stored 0%)
adding: help/paths.rds (188 bytes security) (stored 0%)
adding: html/ (256 bytes security) (stored 0%)
adding: html/00Index.html (188 bytes security) (deflated 82%)
adding: html/R.css (188 bytes security) (deflated 70%)
adding: INDEX (188 bytes security) (deflated 74%)
adding: MD5 (188 bytes security) (deflated 68%)
adding: Meta/ (256 bytes security) (stored 0%)
adding: Meta/data.rds (188 bytes security) (stored 0%)
adding: Meta/hsearch.rds (188 bytes security) (stored 0%)
adding: Meta/links.rds (188 bytes security) (stored 0%)
adding: Meta/nsInfo.rds (188 bytes security) (stored 0%)
adding: Meta/package.rds (188 bytes security) (stored 0%)
adding: Meta/Rd.rds (188 bytes security) (stored 0%)
adding: Meta/vignette.rds (188 bytes security) (stored 0%)
adding: NAMESPACE (188 bytes security) (deflated 69%)
adding: NEWS (188 bytes security) (deflated 54%)
adding: R/ (256 bytes security) (stored 0%)
adding: R/ballgown (188 bytes security) (deflated 41%)
adding: R/ballgown.rdb (188 bytes security) (deflated 34%)
adding: R/ballgown.rdx (188 bytes security) (deflated 2%)