RpsiXML 2.8.0 Jitao David Zhang
 | Snapshot Date: 2015-04-09 16:20:12 -0700 (Thu, 09 Apr 2015) |  | URL: https://hedgehog.fhcrc.org/bioconductor/branches/RELEASE_3_0/madman/Rpacks/RpsiXML |  | Last Changed Rev: 95439 / Revision: 102249 |  | Last Changed Date: 2014-10-13 14:38:33 -0700 (Mon, 13 Oct 2014) |  
  | zin1  | Linux (Ubuntu 12.04.4 LTS) / x86_64  |  OK  |  OK  |  WARNINGS  |  | 
| moscato1  | Windows Server 2008 R2 Enterprise SP1 (64-bit) / x64  |  OK  |  OK  |  WARNINGS  | [ OK ] | 
| perceval  | Mac OS X Snow Leopard (10.6.8) / x86_64  |  OK  |  OK  |  WARNINGS  |  OK  | 
| oaxaca  | Mac OS X Mavericks (10.9.5) / x86_64  |  OK  |  OK  |  WARNINGS  |  OK  | 
##############################################################################
##############################################################################
###
### Running command:
###
###   cd RpsiXML.buildbin-libdir/RpsiXML && zip -r ../../RpsiXML_2.8.0.zip . & cd ../..
###
##############################################################################
##############################################################################
  adding: DESCRIPTION (188 bytes security) (deflated 43%)
  adding: doc/ (256 bytes security) (stored 0%)
  adding: doc/index.html (188 bytes security) (deflated 65%)
  adding: doc/RpsiXML.pdf (188 bytes security) (deflated 8%)
  adding: doc/RpsiXML.R (188 bytes security) (deflated 79%)
  adding: doc/RpsiXML.Rnw (188 bytes security) (deflated 64%)
  adding: doc/RpsiXMLApp.pdf (188 bytes security) (deflated 10%)
  adding: doc/RpsiXMLApp.R (188 bytes security) (deflated 75%)
  adding: doc/RpsiXMLApp.Rnw (188 bytes security) (deflated 61%)
  adding: extdata/ (256 bytes security) (stored 0%)
  adding: extdata/psi25files/ (256 bytes security) (stored 0%)
  adding: extdata/psi25files/biogrid_200804_test.xml (188 bytes security) (deflated 87%)
  adding: extdata/psi25files/dip_2008_test.xml (188 bytes security) (deflated 96%)
  adding: extdata/psi25files/hprd_200709_test.xml (188 bytes security) (deflated 77%)
  adding: extdata/psi25files/human_stelzl-2005-1_01.xml (188 bytes security) (deflated 93%)
  adding: extdata/psi25files/human_stelzl-2005-1_02.xml (188 bytes security) (deflated 93%)
  adding: extdata/psi25files/intact_2008_test.xml (188 bytes security) (deflated 97%)
  adding: extdata/psi25files/intact_complexSample.xml (188 bytes security) (deflated 90%)
  adding: extdata/psi25files/matrixdb_20080609.xml (188 bytes security) (deflated 94%)
  adding: extdata/psi25files/mint_200711_test.xml (188 bytes security) (deflated 94%)
  adding: extdata/psi25files/mips_2007_test.xml (188 bytes security) (deflated 98%)
  adding: extdata/schemas/ (256 bytes security) (stored 0%)
  adding: extdata/schemas/MIF25.xsd (188 bytes security) (deflated 87%)
  adding: help/ (256 bytes security) (stored 0%)
  adding: help/aliases.rds (188 bytes security) (stored 0%)
  adding: help/AnIndex (188 bytes security) (deflated 84%)
  adding: help/paths.rds (188 bytes security) (stored 0%)
  adding: help/RpsiXML.rdb (188 bytes security) (deflated 1%)
  adding: help/RpsiXML.rdx (188 bytes security) (stored 0%)
  adding: html/ (256 bytes security) (stored 0%)
  adding: html/00Index.html (188 bytes security) (deflated 88%)
  adding: html/R.css (188 bytes security) (deflated 70%)
  adding: INDEX (188 bytes security) (deflated 70%)
  adding: MD5 (188 bytes security) (deflated 47%)
  adding: Meta/ (256 bytes security) (stored 0%)
  adding: Meta/hsearch.rds (188 bytes security) (stored 0%)
  adding: Meta/links.rds (188 bytes security) (stored 0%)
  adding: Meta/nsInfo.rds (188 bytes security) (stored 0%)
  adding: Meta/package.rds (188 bytes security) (stored 0%)
  adding: Meta/Rd.rds (188 bytes security) (stored 0%)
  adding: Meta/vignette.rds (188 bytes security) (stored 0%)
  adding: NAMESPACE (188 bytes security) (deflated 69%)
  adding: NEWS (188 bytes security) (deflated 62%)
  adding: R/ (256 bytes security) (stored 0%)
  adding: R/RpsiXML (188 bytes security) (deflated 41%)
  adding: R/RpsiXML.rdb (188 bytes security) (deflated 32%)
  adding: R/RpsiXML.rdx (188 bytes security) (deflated 5%)
  adding: TODO (188 bytes security) (deflated 16%)