RCytoscape 1.16.0 Paul Shannon
Snapshot Date: 2015-04-09 16:20:12 -0700 (Thu, 09 Apr 2015) | URL: https://hedgehog.fhcrc.org/bioconductor/branches/RELEASE_3_0/madman/Rpacks/RCytoscape | Last Changed Rev: 95439 / Revision: 102249 | Last Changed Date: 2014-10-13 14:38:33 -0700 (Mon, 13 Oct 2014) |
| zin1 | Linux (Ubuntu 12.04.4 LTS) / x86_64 | OK | ERROR | skipped | |
moscato1 | Windows Server 2008 R2 Enterprise SP1 (64-bit) / x64 | OK | [ ERROR ] | skipped | skipped |
perceval | Mac OS X Snow Leopard (10.6.8) / x86_64 | OK | ERROR | skipped | skipped |
oaxaca | Mac OS X Mavericks (10.9.5) / x86_64 | OK | ERROR | skipped | skipped |
##############################################################################
##############################################################################
###
### Running command:
###
### chmod a+r RCytoscape -R && D:\biocbld\bbs-3.0-bioc\R\bin\R.exe CMD build --keep-empty-dirs --no-resave-data RCytoscape
###
##############################################################################
##############################################################################
* checking for file 'RCytoscape/DESCRIPTION' ... OK
* preparing 'RCytoscape':
* checking DESCRIPTION meta-information ... OK
* installing the package to build vignettes
* creating vignettes ...Warning: running command '"D:/biocbld/bbs-3.0-bioc/R/bin/i386/Rscript" --vanilla --default-packages= -e "tools::buildVignettes(dir = '.', tangle = TRUE)"' had status 1
ERROR
Loading required package: graph
Loading required package: XMLRPC
Note: the specification for S3 class "AsIs" in package 'XMLRPC' seems equivalent to one from package 'BiocGenerics': not turning on duplicate class definitions for this class.
Error: processing vignette 'RCytoscape.Rnw' failed with diagnostics:
chunk 1 (label = g0)
Error in function (type, msg, asError = TRUE) :
Failed to connect to taipan port 3023: Connection refused
Execution halted