| GenomicFiles 1.2.1 Bioconductor Package Maintainer
 
 | Snapshot Date: 2015-04-09 16:20:12 -0700 (Thu, 09 Apr 2015) |  | URL: https://hedgehog.fhcrc.org/bioconductor/branches/RELEASE_3_0/madman/Rpacks/GenomicFiles |  | Last Changed Rev: 99155 / Revision: 102249 |  | Last Changed Date: 2015-02-06 13:50:33 -0800 (Fri, 06 Feb 2015) | 
 | zin1 | Linux (Ubuntu 12.04.4 LTS) / x86_64 | OK | OK | OK |  | 
| moscato1 | Windows Server 2008 R2 Enterprise SP1 (64-bit) / x64 | OK | OK | OK | [ OK ] | 
| perceval | Mac OS X Snow Leopard (10.6.8) / x86_64 | OK | OK | OK | OK | 
| oaxaca | Mac OS X Mavericks (10.9.5) / x86_64 | OK | OK | OK | OK | 
##############################################################################
##############################################################################
###
### Running command:
###
###   cd GenomicFiles.buildbin-libdir/GenomicFiles && zip -r ../../GenomicFiles_1.2.1.zip . & cd ../..
###
##############################################################################
##############################################################################
  adding: DESCRIPTION (188 bytes security) (deflated 45%)
  adding: doc/ (256 bytes security) (stored 0%)
  adding: doc/GenomicFiles.pdf (188 bytes security) (deflated 13%)
  adding: doc/GenomicFiles.R (188 bytes security) (deflated 83%)
  adding: doc/GenomicFiles.Rnw (188 bytes security) (deflated 69%)
  adding: doc/index.html (188 bytes security) (deflated 58%)
  adding: help/ (256 bytes security) (stored 0%)
  adding: help/aliases.rds (188 bytes security) (stored 0%)
  adding: help/AnIndex (188 bytes security) (deflated 85%)
  adding: help/GenomicFiles.rdb (188 bytes security) (deflated 1%)
  adding: help/GenomicFiles.rdx (188 bytes security) (stored 0%)
  adding: help/paths.rds (188 bytes security) (stored 0%)
  adding: html/ (256 bytes security) (stored 0%)
  adding: html/00Index.html (188 bytes security) (deflated 87%)
  adding: html/R.css (188 bytes security) (deflated 70%)
  adding: INDEX (188 bytes security) (deflated 61%)
  adding: MD5 (188 bytes security) (deflated 43%)
  adding: Meta/ (256 bytes security) (stored 0%)
  adding: Meta/hsearch.rds (188 bytes security) (stored 0%)
  adding: Meta/links.rds (188 bytes security) (stored 0%)
  adding: Meta/nsInfo.rds (188 bytes security) (stored 0%)
  adding: Meta/package.rds (188 bytes security) (stored 0%)
  adding: Meta/Rd.rds (188 bytes security) (stored 0%)
  adding: Meta/vignette.rds (188 bytes security) (stored 0%)
  adding: NAMESPACE (188 bytes security) (deflated 72%)
  adding: NEWS (188 bytes security) (deflated 50%)
  adding: R/ (256 bytes security) (stored 0%)
  adding: R/GenomicFiles (188 bytes security) (deflated 41%)
  adding: R/GenomicFiles.rdb (188 bytes security) (deflated 32%)
  adding: R/GenomicFiles.rdx (188 bytes security) (deflated 0%)
  adding: scripts/ (256 bytes security) (stored 0%)
  adding: scripts/methods-FileManager.R (188 bytes security) (deflated 64%)
  adding: unitTests/ (256 bytes security) (stored 0%)
  adding: unitTests/test_pack-methods.R (188 bytes security) (deflated 78%)
  adding: unitTests/test_reduceBy-methods.R (188 bytes security) (deflated 69%)