GWASTools 1.12.2 Stephanie M. Gogarten , Adrienne Stilp
Snapshot Date: 2015-04-09 16:20:12 -0700 (Thu, 09 Apr 2015) | URL: https://hedgehog.fhcrc.org/bioconductor/branches/RELEASE_3_0/madman/Rpacks/GWASTools | Last Changed Rev: 97989 / Revision: 102249 | Last Changed Date: 2015-01-05 10:23:22 -0800 (Mon, 05 Jan 2015) |
| zin1 | Linux (Ubuntu 12.04.4 LTS) / x86_64 | OK | OK | [ OK ] | |
moscato1 | Windows Server 2008 R2 Enterprise SP1 (64-bit) / x64 | OK | OK | OK | OK |
perceval | Mac OS X Snow Leopard (10.6.8) / x86_64 | OK | OK | OK | OK |
oaxaca | Mac OS X Mavericks (10.9.5) / x86_64 | OK | OK | OK | OK |
##############################################################################
##############################################################################
###
### Running command:
###
### /home/biocbuild/bbs-3.0-bioc/R/bin/R CMD check --no-vignettes --timings GWASTools_1.12.2.tar.gz
###
##############################################################################
##############################################################################
* using log directory ‘/home/biocbuild/bbs-3.0-bioc/meat/GWASTools.Rcheck’
* using R version 3.1.3 (2015-03-09)
* using platform: x86_64-unknown-linux-gnu (64-bit)
* using session charset: UTF-8
* using option ‘--no-vignettes’
* checking for file ‘GWASTools/DESCRIPTION’ ... OK
* checking extension type ... Package
* this is package ‘GWASTools’ version ‘1.12.2’
* checking package namespace information ... OK
* checking package dependencies ... OK
* checking if this is a source package ... OK
* checking if there is a namespace ... OK
* checking for hidden files and directories ... NOTE
Found the following hidden files and directories:
.BBSoptions
These were most likely included in error. See section ‘Package
structure’ in the ‘Writing R Extensions’ manual.
* checking for portable file names ... OK
* checking for sufficient/correct file permissions ... OK
* checking whether package ‘GWASTools’ can be installed ... [7s/8s] OK
* checking installed package size ... OK
* checking package directory ... OK
* checking ‘build’ directory ... OK
* checking DESCRIPTION meta-information ... OK
* checking top-level files ... OK
* checking for left-over files ... OK
* checking index information ... OK
* checking package subdirectories ... OK
* checking R files for non-ASCII characters ... OK
* checking R files for syntax errors ... OK
* checking whether the package can be loaded ... OK
* checking whether the package can be loaded with stated dependencies ... OK
* checking whether the package can be unloaded cleanly ... OK
* checking whether the namespace can be loaded with stated dependencies ... OK
* checking whether the namespace can be unloaded cleanly ... OK
* checking dependencies in R code ... NOTE
'library' or 'require' call to ‘snpStats’ in package code.
Please use :: or requireNamespace() instead.
See section 'Suggested packages' in the 'Writing R Extensions' manual.
* checking S3 generic/method consistency ... OK
* checking replacement functions ... OK
* checking foreign function calls ... OK
* checking R code for possible problems ... NOTE
ibdAreasDraw: no visible binding for global variable ‘relationsMeanVar’
ibdAssignRelatedness: no visible binding for global variable
‘relationsMeanVar’
ibdPlot: no visible binding for global variable ‘relationsMeanVar’
* checking Rd files ... OK
* checking Rd metadata ... OK
* checking Rd cross-references ... OK
* checking for missing documentation entries ... OK
* checking for code/documentation mismatches ... OK
* checking Rd \usage sections ... OK
* checking Rd contents ... OK
* checking for unstated dependencies in examples ... OK
* checking contents of ‘data’ directory ... OK
* checking data for non-ASCII characters ... OK
* checking data for ASCII and uncompressed saves ... OK
* checking installed files from ‘inst/doc’ ... OK
* checking files in ‘vignettes’ ... OK
* checking examples ... [85s/90s] OK
Examples with CPU or elapsed time > 5s
user system elapsed
assocTestRegression 28.294 0.004 28.442
vcfWrite 12.389 0.320 13.608
assocTestFisherExact 8.917 0.000 9.079
assocTestCPH 4.820 0.008 5.003
* checking for unstated dependencies in tests ... OK
* checking tests ...
Running ‘test.R’ [119s/141s]
[119s/141s] OK
* checking for unstated dependencies in vignettes ... OK
* checking package vignettes in ‘inst/doc’ ... OK
* checking running R code from vignettes ... SKIPPED
* checking re-building of vignette outputs ... SKIPPED
* checking PDF version of manual ... OK
* DONE
NOTE: There were 3 notes.
See
‘/home/biocbuild/bbs-3.0-bioc/meat/GWASTools.Rcheck/00check.log’
for details.
* installing *source* package ‘GWASTools’ ...
** R
** data
*** moving datasets to lazyload DB
** inst
** preparing package for lazy loading
Creating a generic function for ‘open’ from package ‘base’ in package ‘GWASTools’
Creating a generic function for ‘close’ from package ‘base’ in package ‘GWASTools’
** help
*** installing help indices
** building package indices
** installing vignettes
** testing if installed package can be loaded
* DONE (GWASTools)