| DirichletMultinomial 1.8.0 Martin Morgan
 
 | Snapshot Date: 2015-04-09 16:20:12 -0700 (Thu, 09 Apr 2015) |  | URL: https://hedgehog.fhcrc.org/bioconductor/branches/RELEASE_3_0/madman/Rpacks/DirichletMultinomial |  | Last Changed Rev: 95439 / Revision: 102249 |  | Last Changed Date: 2014-10-13 14:38:33 -0700 (Mon, 13 Oct 2014) | 
 | zin1 | Linux (Ubuntu 12.04.4 LTS) / x86_64 | OK | OK | OK |  | 
| moscato1 | Windows Server 2008 R2 Enterprise SP1 (64-bit) / x64 | OK | OK | OK | [ OK ] | 
| perceval | Mac OS X Snow Leopard (10.6.8) / x86_64 | OK | OK | OK | OK | 
| oaxaca | Mac OS X Mavericks (10.9.5) / x86_64 | OK | OK | OK | OK | 
##############################################################################
##############################################################################
###
### Running command:
###
###   cd DirichletMultinomial.buildbin-libdir/DirichletMultinomial && zip -r ../../DirichletMultinomial_1.8.0.zip . & cd ../..
###
##############################################################################
##############################################################################
  adding: data/ (256 bytes security) (stored 0%)
  adding: data/bestgrp.rda (188 bytes security) (deflated 0%)
  adding: data/fit.rda (188 bytes security) (deflated 0%)
  adding: data/xval.rda (188 bytes security) (stored 0%)
  adding: DESCRIPTION (188 bytes security) (deflated 41%)
  adding: doc/ (256 bytes security) (stored 0%)
  adding: doc/DirichletMultinomial.pdf (188 bytes security) (deflated 14%)
  adding: doc/DirichletMultinomial.R (188 bytes security) (deflated 74%)
  adding: doc/DirichletMultinomial.Rnw (188 bytes security) (deflated 61%)
  adding: doc/index.html (188 bytes security) (deflated 61%)
  adding: extdata/ (256 bytes security) (stored 0%)
  adding: extdata/Twins.csv (188 bytes security) (deflated 83%)
  adding: extdata/TwinStudy.t (188 bytes security) (deflated 84%)
  adding: help/ (256 bytes security) (stored 0%)
  adding: help/aliases.rds (188 bytes security) (stored 0%)
  adding: help/AnIndex (188 bytes security) (deflated 62%)
  adding: help/DirichletMultinomial.rdb (188 bytes security) (deflated 0%)
  adding: help/DirichletMultinomial.rdx (188 bytes security) (stored 0%)
  adding: help/paths.rds (188 bytes security) (stored 0%)
  adding: html/ (256 bytes security) (stored 0%)
  adding: html/00Index.html (188 bytes security) (deflated 73%)
  adding: html/R.css (188 bytes security) (deflated 70%)
  adding: INDEX (188 bytes security) (deflated 60%)
  adding: libs/ (256 bytes security) (stored 0%)
  adding: libs/i386/ (256 bytes security) (stored 0%)
  adding: libs/i386/DirichletMultinomial.dll (188 bytes security) (deflated 64%)
  adding: libs/x64/ (256 bytes security) (stored 0%)
  adding: libs/x64/DirichletMultinomial.dll (188 bytes security) (deflated 64%)
  adding: MD5 (188 bytes security) (deflated 47%)
  adding: Meta/ (256 bytes security) (stored 0%)
  adding: Meta/data.rds (188 bytes security) (stored 0%)
  adding: Meta/hsearch.rds (188 bytes security) (stored 0%)
  adding: Meta/links.rds (188 bytes security) (stored 0%)
  adding: Meta/nsInfo.rds (188 bytes security) (stored 0%)
  adding: Meta/package.rds (188 bytes security) (stored 0%)
  adding: Meta/Rd.rds (188 bytes security) (stored 0%)
  adding: Meta/vignette.rds (188 bytes security) (stored 0%)
  adding: NAMESPACE (188 bytes security) (deflated 46%)
  adding: R/ (256 bytes security) (stored 0%)
  adding: R/DirichletMultinomial (188 bytes security) (deflated 41%)
  adding: R/DirichletMultinomial.rdb (188 bytes security) (deflated 28%)
  adding: R/DirichletMultinomial.rdx (188 bytes security) (stored 0%)