BiSeq 1.6.0 Katja Hebestreit
Snapshot Date: 2015-04-09 16:20:12 -0700 (Thu, 09 Apr 2015) | URL: https://hedgehog.fhcrc.org/bioconductor/branches/RELEASE_3_0/madman/Rpacks/BiSeq | Last Changed Rev: 95439 / Revision: 102249 | Last Changed Date: 2014-10-13 14:38:33 -0700 (Mon, 13 Oct 2014) |
| zin1 | Linux (Ubuntu 12.04.4 LTS) / x86_64 | OK | OK | OK | |
moscato1 | Windows Server 2008 R2 Enterprise SP1 (64-bit) / x64 | OK | OK | [ OK ] | OK |
perceval | Mac OS X Snow Leopard (10.6.8) / x86_64 | OK | OK | OK | OK |
oaxaca | Mac OS X Mavericks (10.9.5) / x86_64 | OK | OK | OK | OK |
##############################################################################
##############################################################################
###
### Running command:
###
### rm -rf BiSeq.buildbin-libdir BiSeq.Rcheck && mkdir BiSeq.buildbin-libdir BiSeq.Rcheck && D:\biocbld\bbs-3.0-bioc\R\bin\R.exe CMD INSTALL --build --merge-multiarch --library=BiSeq.buildbin-libdir BiSeq_1.6.0.tar.gz >BiSeq.Rcheck\00install.out 2>&1 && cp BiSeq.Rcheck\00install.out BiSeq-install.out && D:\biocbld\bbs-3.0-bioc\R\bin\R.exe CMD check --library=BiSeq.buildbin-libdir --install="check:BiSeq-install.out" --force-multiarch --no-vignettes --timings BiSeq_1.6.0.tar.gz
###
##############################################################################
##############################################################################
* using log directory 'D:/biocbld/bbs-3.0-bioc/meat/BiSeq.Rcheck'
* using R version 3.1.3 (2015-03-09)
* using platform: i386-w64-mingw32 (32-bit)
* using session charset: ISO8859-1
* using option '--no-vignettes'
* checking for file 'BiSeq/DESCRIPTION' ... OK
* checking extension type ... Package
* this is package 'BiSeq' version '1.6.0'
* checking package namespace information ... OK
* checking package dependencies ... OK
* checking if this is a source package ... OK
* checking if there is a namespace ... OK
* checking for hidden files and directories ... OK
* checking for portable file names ... OK
* checking whether package 'BiSeq' can be installed ... OK
* checking installed package size ... OK
* checking package directory ... OK
* checking 'build' directory ... OK
* checking DESCRIPTION meta-information ... NOTE
Packages listed in more than one of Depends, Imports, Suggests, Enhances:
'methods' 'S4Vectors' 'IRanges' 'GenomicRanges' 'Formula'
A package should be listed in only one of these fields.
* checking top-level files ... OK
* checking for left-over files ... OK
* checking index information ... OK
* checking package subdirectories ... OK
* checking R files for non-ASCII characters ... OK
* checking R files for syntax errors ... OK
* loading checks for arch 'i386'
** checking whether the package can be loaded ... OK
** checking whether the package can be loaded with stated dependencies ... OK
** checking whether the package can be unloaded cleanly ... OK
** checking whether the namespace can be loaded with stated dependencies ... OK
** checking whether the namespace can be unloaded cleanly ... OK
* loading checks for arch 'x64'
** checking whether the package can be loaded ... OK
** checking whether the package can be loaded with stated dependencies ... OK
** checking whether the package can be unloaded cleanly ... OK
** checking whether the namespace can be loaded with stated dependencies ... OK
** checking whether the namespace can be unloaded cleanly ... OK
* checking dependencies in R code ... NOTE
Namespace in Imports field not imported from: 'Formula'
All declared Imports should be used.
Package in Depends field not imported from: 'Formula'
These packages need to be imported from (in the NAMESPACE file)
for when this namespace is loaded but not attached.
':::' call which should be '::': 'IRanges:::width'
See the note in ?`:::` about the use of this operator.
* checking S3 generic/method consistency ... OK
* checking replacement functions ... OK
* checking foreign function calls ... OK
* checking R code for possible problems ... NOTE
.predictMeth: no visible global function definition for 'seqlevels<-'
.predictMeth: no visible global function definition for 'seqlevels'
.predictMeth : predict.cluster: no visible global function definition
for 'seqlevels<-'
.predictMeth : predict.cluster: no visible global function definition
for 'seqlevels'
predictMeth,BSraw-numeric-numeric-numeric: no visible global function
definition for 'seqlevels<-'
predictMeth,BSraw-numeric-numeric-numeric: no visible global function
definition for 'seqlevels'
predictMeth,BSraw-numeric-numeric-numeric : predict.cluster: no visible
global function definition for 'seqlevels<-'
predictMeth,BSraw-numeric-numeric-numeric : predict.cluster: no visible
global function definition for 'seqlevels'
* checking Rd files ... OK
* checking Rd metadata ... OK
* checking Rd cross-references ... OK
* checking for missing documentation entries ... OK
* checking for code/documentation mismatches ... OK
* checking Rd \usage sections ... OK
* checking Rd contents ... OK
* checking for unstated dependencies in examples ... OK
* checking contents of 'data' directory ... OK
* checking data for non-ASCII characters ... OK
* checking data for ASCII and uncompressed saves ... OK
* checking installed files from 'inst/doc' ... OK
* checking files in 'vignettes' ... OK
* checking examples ...
** running examples for arch 'i386' ... [87s] OK
Examples with CPU or elapsed time > 5s
user system elapsed
globalTest 29.65 0.01 29.67
betaRegression 9.61 0.02 9.98
estLocCor 8.44 0.03 8.78
makeVariogram 6.82 0.02 6.83
** running examples for arch 'x64' ... [117s] OK
Examples with CPU or elapsed time > 5s
user system elapsed
globalTest 37.68 0.00 37.67
betaRegression 15.10 0.01 15.11
makeVariogram 12.73 0.00 12.73
estLocCor 10.69 0.06 10.75
* checking for unstated dependencies in vignettes ... OK
* checking package vignettes in 'inst/doc' ... OK
* checking running R code from vignettes ... SKIPPED
* checking re-building of vignette outputs ... SKIPPED
* checking PDF version of manual ... OK
* DONE
NOTE: There were 3 notes.
See
'D:/biocbld/bbs-3.0-bioc/meat/BiSeq.Rcheck/00check.log'
for details.
install for i386
* installing *source* package 'BiSeq' ...
** R
** data
** inst
** preparing package for lazy loading
** help
*** installing help indices
** building package indices
** installing vignettes
** testing if installed package can be loaded
install for x64
* installing *source* package 'BiSeq' ...
** testing if installed package can be loaded
* MD5 sums
packaged installation of 'BiSeq' as BiSeq_1.6.0.zip
* DONE (BiSeq)