yeastRNASeq 0.0.3 J. Bullard
 | Snapshot Date: 2011-07-01 11:15:06 -0700 (Fri, 01 Jul 2011) |  | URL: https://hedgehog.fhcrc.org/bioc-data/trunk/experiment/pkgs/yeastRNASeq |  | Last Changed Rev: 1395 / Revision: 1675 |  | Last Changed Date: 2010-12-03 12:31:37 -0800 (Fri, 03 Dec 2010) |  
  | wilson2  | Linux (openSUSE 11.4) / x86_64  |  OK  |  OK  |  | 
| liverpool  | Windows Server 2003 R2 (32-bit) / x64  |  OK  |  OK  |  OK  | 
| petty  | Mac OS X Snow Leopard (10.6.7) / i386  | [ OK ] |  OK  |  OK  | 
* checking for file 'yeastRNASeq/DESCRIPTION' ... OK
* preparing 'yeastRNASeq':
* checking DESCRIPTION meta-information ... OK
* installing the package to re-build vignettes
* creating vignettes ... OK
* checking for LF line-endings in source and make files
* checking for empty or unneeded directories
* looking to see if a 'data/datalist' file should be added
* building 'yeastRNASeq_0.0.3.tar.gz'