| Back to the "Multiple platform build/check report" |
| Package 77/98 | Hostname | OS / Arch | BUILD | CHECK | BUILD BIN | ||||
| mvoutData 0.99.5 VJ Carey
| wilson2 | Linux (openSUSE 11.4) / x86_64 | OK | OK | |||||
| liverpool | Windows Server 2003 R2 (32-bit) / x64 | OK | OK | [ OK ] | |||||
| pitt | Mac OS X Leopard (10.5.8) / i386 | OK | OK | OK |
| Package: mvoutData |
| Version: 0.99.5 |
| Command: mkdir mvoutData.buildbin-libdir && E:\biocbld\bbs-2.9-bioc\R\bin\R.exe CMD INSTALL --build --no-multiarch --library=mvoutData.buildbin-libdir mvoutData_0.99.5.tar.gz |
| StartedAt: 2011-07-06 17:13:32 -0700 (Wed, 06 Jul 2011) |
| EndedAt: 2011-07-06 17:13:46 -0700 (Wed, 06 Jul 2011) |
| EllapsedTime: 14.0 seconds |
| RetCode: 0 |
| Status: OK |
| PackageFile: mvoutData_0.99.5.zip |
| PackageFileSize: 14.19 MiB |
* installing *source* package 'mvoutData' ... ** data ** help *** installing help indices ** building package indices ... ** testing if installed package can be loaded * MD5 sums packaged installation of 'mvoutData' as mvoutData_0.99.5.zip * DONE (mvoutData)