| Back to the "Multiple platform build/check report" |
| Package 35/98 | Hostname | OS / Arch | BUILD | CHECK | BUILD BIN | ||||
| gageData 1.1.1 Weijun Luo
| wilson2 | Linux (openSUSE 11.4) / x86_64 | OK | OK | |||||
| liverpool | Windows Server 2003 R2 (32-bit) / x64 | OK | OK | [ OK ] | |||||
| pitt | Mac OS X Leopard (10.5.8) / i386 | OK | OK | OK |
| Package: gageData |
| Version: 1.1.1 |
| Command: mkdir gageData.buildbin-libdir && E:\biocbld\bbs-2.9-bioc\R\bin\R.exe CMD INSTALL --build --no-multiarch --library=gageData.buildbin-libdir gageData_1.1.1.tar.gz |
| StartedAt: 2011-07-06 16:51:40 -0700 (Wed, 06 Jul 2011) |
| EndedAt: 2011-07-06 16:51:54 -0700 (Wed, 06 Jul 2011) |
| EllapsedTime: 13.7 seconds |
| RetCode: 0 |
| Status: OK |
| PackageFile: gageData_1.1.1.zip |
| PackageFileSize: 11.56 MiB |
* installing *source* package 'gageData' ... ** data ** help *** installing help indices ** building package indices ... ** testing if installed package can be loaded * MD5 sums packaged installation of 'gageData' as gageData_1.1.1.zip * DONE (gageData)