cgdv17 0.0.15 VJ Carey
 | Snapshot Date: 2012-03-23 11:15:09 -0700 (Fri, 23 Mar 2012) |  | URL: https://hedgehog.fhcrc.org/bioc-data/trunk/experiment/pkgs/cgdv17 |  | Last Changed Rev: 2017 / Revision: 2028 |  | Last Changed Date: 2012-03-19 15:42:08 -0700 (Mon, 19 Mar 2012) |  
  | wilson2  | Linux (openSUSE 11.4) / x86_64  |  ERROR  |  skipped  |  | 
| moscato1  | Windows Server 2008 R2 Enterprise SP1 (64-bit) / x64  |  ERROR  |  skipped  |  skipped  | 
| pitt  | Mac OS X Leopard (10.5.8) / i386  | [ ERROR ] |  skipped  |  skipped  | 
* checking for file 'cgdv17/DESCRIPTION' ... OK
* preparing 'cgdv17':
* checking DESCRIPTION meta-information ... OK
* installing the package to re-build vignettes
      -----------------------------------
ERROR: this R is version 2.14.2, package 'cgdv17' requires R >= 2.15
      -----------------------------------
ERROR: package installation failed