| Back to the "Multiple platform build/check report" |
| Package 14/98 | Hostname | OS / Arch | BUILD | CHECK | BUILD BIN | ||||
| bronchialIL13 1.0-6 Vince Carey
| wilson2 | Linux (openSUSE 11.4) / x86_64 | OK | OK | |||||
| liverpool | Windows Server 2003 R2 (32-bit) / x64 | OK | OK | [ OK ] | |||||
| pitt | Mac OS X Leopard (10.5.8) / i386 | OK | OK | OK |
| Package: bronchialIL13 |
| Version: 1.0-6 |
| Command: mkdir bronchialIL13.buildbin-libdir && E:\biocbld\bbs-2.9-bioc\R\bin\R.exe CMD INSTALL --build --no-multiarch --library=bronchialIL13.buildbin-libdir bronchialIL13_1.0-6.tar.gz |
| StartedAt: 2011-07-06 16:35:29 -0700 (Wed, 06 Jul 2011) |
| EndedAt: 2011-07-06 16:36:05 -0700 (Wed, 06 Jul 2011) |
| EllapsedTime: 36.0 seconds |
| RetCode: 0 |
| Status: OK |
| PackageFile: bronchialIL13_1.0-6.zip |
| PackageFileSize: 69.14 MiB |
* installing *source* package 'bronchialIL13' ... ** data ** inst ** help *** installing help indices ** building package indices ... ** testing if installed package can be loaded * MD5 sums packaged installation of 'bronchialIL13' as bronchialIL13_1.0-6.zip * DONE (bronchialIL13)