| Back to the "Multiple platform build/check report" |
| Package 7/98 | Hostname | OS / Arch | BUILD | CHECK | BUILD BIN | ||||
| beta7 1.0.0 Jean Yang
| wilson2 | Linux (openSUSE 11.4) / x86_64 | OK | WARNINGS | |||||
| liverpool | Windows Server 2003 R2 (32-bit) / x64 | OK | WARNINGS | [ OK ] | |||||
| pitt | Mac OS X Leopard (10.5.8) / i386 | OK | WARNINGS | OK |
| Package: beta7 |
| Version: 1.0.0 |
| Command: mkdir beta7.buildbin-libdir && E:\biocbld\bbs-2.9-bioc\R\bin\R.exe CMD INSTALL --build --no-multiarch --library=beta7.buildbin-libdir beta7_1.0.0.tar.gz |
| StartedAt: 2011-07-06 16:33:37 -0700 (Wed, 06 Jul 2011) |
| EndedAt: 2011-07-06 16:33:59 -0700 (Wed, 06 Jul 2011) |
| EllapsedTime: 22.1 seconds |
| RetCode: 0 |
| Status: OK |
| PackageFile: beta7_1.0.0.zip |
| PackageFileSize: 15.19 MiB |
* installing *source* package 'beta7' ... ** data ** inst ** help *** installing help indices ** building package indices ... ** testing if installed package can be loaded * MD5 sums packaged installation of 'beta7' as beta7_1.0.0.zip * DONE (beta7)