| affydata 1.11.15 Harris Jaffee
 
 | Snapshot Date: 2012-03-23 11:15:09 -0700 (Fri, 23 Mar 2012) |  | URL: https://hedgehog.fhcrc.org/bioc-data/trunk/experiment/pkgs/affydata |  | Last Changed Rev: 1824 / Revision: 2028 |  | Last Changed Date: 2011-10-31 16:29:55 -0700 (Mon, 31 Oct 2011) | 
 | wilson2 | Linux (openSUSE 11.4) / x86_64 | OK | OK |  | 
| moscato1 | Windows Server 2008 R2 Enterprise SP1 (64-bit) / x64 | OK | OK | OK | 
| pitt | Mac OS X Leopard (10.5.8) / i386 | OK | OK | [ OK ] | 
>>>>>>> 
>>>>>>> INSTALLATION WITH 'R CMD INSTALL --preclean --no-multiarch --library=affydata.buildbin-libdir affydata_1.11.15.tar.gz'
>>>>>>> 
* installing *source* package 'affydata' ...
** R
** data
** inst
** preparing package for lazy loading
** help
*** installing help indices
** building package indices ...
*** tangling vignette sources ...
   'affydata.Rnw' 
** testing if installed package can be loaded
     Package   
[1,] "affydata"
     LibPath                                                                 
[1,] "/Users/biocbuild/bbs-2.9-data-experiment/meat/affydata.buildbin-libdir"
     Item       Title                        
[1,] "Dilution" "AffyBatch instance Dilution"
* DONE (affydata)