| Back to the "Multiple platform build/check report" | 
| Package 1/98 | Hostname | OS / Arch | BUILD | CHECK | BUILD BIN | ||||
| affycompData 1.1.0 Harris Jaffee 
  | wilson2 | Linux (openSUSE 11.4) / x86_64 | OK | OK | |||||
| liverpool | Windows Server 2003 R2 (32-bit) / x64 | OK | OK | [ OK ] | |||||
| pitt | Mac OS X Leopard (10.5.8) / i386 | OK | OK | OK | 
| Package: affycompData | 
| Version: 1.1.0 | 
| Command: mkdir affycompData.buildbin-libdir && E:\biocbld\bbs-2.9-bioc\R\bin\R.exe CMD INSTALL --build --no-multiarch --library=affycompData.buildbin-libdir affycompData_1.1.0.tar.gz | 
| StartedAt: 2011-07-06 16:31:48 -0700 (Wed, 06 Jul 2011) | 
| EndedAt: 2011-07-06 16:32:21 -0700 (Wed, 06 Jul 2011) | 
| EllapsedTime: 32.7 seconds | 
| RetCode: 0 | 
| Status: OK | 
| PackageFile: affycompData_1.1.0.zip | 
| PackageFileSize: 68.62 MiB | 
* installing *source* package 'affycompData' ... ** data ** help *** installing help indices ** building package indices ... ** testing if installed package can be loaded * MD5 sums packaged installation of 'affycompData' as affycompData_1.1.0.zip * DONE (affycompData)