| XhybCasneuf 1.0.8 Tineke Casneuf
 
 | Snapshot Date: 2012-03-23 11:15:09 -0700 (Fri, 23 Mar 2012) |  | URL: https://hedgehog.fhcrc.org/bioc-data/trunk/experiment/pkgs/XhybCasneuf |  | Last Changed Rev: 1836 / Revision: 2028 |  | Last Changed Date: 2011-11-14 17:11:10 -0800 (Mon, 14 Nov 2011) | 
 | wilson2 | Linux (openSUSE 11.4) / x86_64 | OK | OK |  | 
| moscato1 | Windows Server 2008 R2 Enterprise SP1 (64-bit) / x64 | OK | OK | OK | 
| pitt | Mac OS X Leopard (10.5.8) / i386 | OK | OK | [ OK ] | 
>>>>>>> 
>>>>>>> INSTALLATION WITH 'R CMD INSTALL --preclean --no-multiarch --library=XhybCasneuf.buildbin-libdir XhybCasneuf_1.0.8.tar.gz'
>>>>>>> 
* installing *source* package 'XhybCasneuf' ...
** R
** data
** inst
** preparing package for lazy loading
** help
*** installing help indices
** building package indices ...
*** tangling vignette sources ...
   'Xhyb.Rnw' 
** testing if installed package can be loaded
* DONE (XhybCasneuf)