MAQCsubset 1.0.24 VJ Carey
 | Snapshot Date: 2012-03-23 11:15:09 -0700 (Fri, 23 Mar 2012) |  | URL: https://hedgehog.fhcrc.org/bioc-data/trunk/experiment/pkgs/MAQCsubset |  | Last Changed Rev: 1836 / Revision: 2028 |  | Last Changed Date: 2011-11-14 17:11:10 -0800 (Mon, 14 Nov 2011) |  
  | wilson2  | Linux (openSUSE 11.4) / x86_64  |  OK  |  OK  |  | 
| moscato1  | Windows Server 2008 R2 Enterprise SP1 (64-bit) / x64  |  OK  |  OK  | [ OK ] | 
| pitt  | Mac OS X Leopard (10.5.8) / i386  |  OK  |  OK  |  OK  | 
install for i386
* installing *source* package 'MAQCsubset' ...
** R
** data
** inst
** preparing package for lazy loading
Creating a generic function for 'lines' from package 'graphics' in package 'MAQCsubset'
** help
*** installing help indices
** building package indices ...
*** tangling vignette sources ...
   'maqcNotes.Rnw' 
** testing if installed package can be loaded
add DLL for x64
* installing *source* package 'MAQCsubset' ...
** testing if installed package can be loaded
* MD5 sums
packaged installation of 'MAQCsubset' as MAQCsubset_1.0.24.zip
* DONE (MAQCsubset)