tinesath1cdf 1.0.6 Tine Casneuf
Snapshot Date: 2012-03-23 11:15:09 -0700 (Fri, 23 Mar 2012) | URL: https://hedgehog.fhcrc.org/bioc-data/trunk/experiment/pkgs/tinesath1cdf | Last Changed Rev: 1824 / Revision: 2028 | Last Changed Date: 2011-10-31 16:29:55 -0700 (Mon, 31 Oct 2011) |
| wilson2 | Linux (openSUSE 11.4) / x86_64 | [ OK ] | OK | |
moscato1 | Windows Server 2008 R2 Enterprise SP1 (64-bit) / x64 | OK | OK | OK |
pitt | Mac OS X Leopard (10.5.8) / i386 | OK | OK | OK |
* checking for file ‘tinesath1cdf/DESCRIPTION’ ... OK
* preparing ‘tinesath1cdf’:
* checking DESCRIPTION meta-information ... OK
* checking whether ‘INDEX’ is up-to-date ... NO
* use ‘--force’ to remove the existing ‘INDEX’
* checking for LF line-endings in source and make files
* checking for empty or unneeded directories
* looking to see if a ‘data/datalist’ file should be added
* building ‘tinesath1cdf_1.0.6.tar.gz’