| Back to the "Multiple platform build/check report" | 
| Package 84/98 | Hostname | OS / Arch | BUILD | CHECK | BUILD BIN | ||||
| rfcdmin 1.6.11 N. Le Meur 
 | wilson2 | Linux (openSUSE 11.4) / x86_64 | OK | WARNINGS | |||||
| liverpool | Windows Server 2003 R2 (32-bit) / x64 | OK | WARNINGS | [ OK ] | |||||
| pitt | Mac OS X Leopard (10.5.8) / i386 | OK | WARNINGS | OK | 
| Package: rfcdmin | 
| Version: 1.6.11 | 
| Command: mkdir rfcdmin.buildbin-libdir && E:\biocbld\bbs-2.9-bioc\R\bin\R.exe CMD INSTALL --build --no-multiarch --library=rfcdmin.buildbin-libdir rfcdmin_1.6.11.tar.gz | 
| StartedAt: 2011-07-06 17:15:04 -0700 (Wed, 06 Jul 2011) | 
| EndedAt: 2011-07-06 17:15:14 -0700 (Wed, 06 Jul 2011) | 
| EllapsedTime: 9.6 seconds | 
| RetCode: 0 | 
| Status: OK | 
| PackageFile: rfcdmin_1.6.11.zip | 
| PackageFileSize: 26.34 MiB | 
* installing *source* package 'rfcdmin' ... ** data ** inst ** help *** installing help indices ** building package indices ... ** testing if installed package can be loaded * MD5 sums packaged installation of 'rfcdmin' as rfcdmin_1.6.11.zip * DONE (rfcdmin)