| mouse4302barcodevecs 1.0.1 Matthew N. McCall
 
 | Snapshot Date: 2011-07-06 11:15:18 -0700 (Wed, 06 Jul 2011) |  | URL: https://hedgehog.fhcrc.org/bioc-data/trunk/experiment/pkgs/mouse4302barcodevecs |  | Last Changed Rev: 1355 / Revision: 1678 |  | Last Changed Date: 2010-10-14 05:33:08 -0700 (Thu, 14 Oct 2010) | 
 | wilson2 | Linux (openSUSE 11.4) / x86_64 | OK | OK |  | 
| liverpool | Windows Server 2003 R2 (32-bit) / x64 | OK | OK | [ OK ] | 
| pitt | Mac OS X Leopard (10.5.8) / i386 | OK | OK | OK | 
* installing *source* package 'mouse4302barcodevecs' ...
** data
** help
*** installing help indices
** building package indices ...
** testing if installed package can be loaded
* MD5 sums
packaged installation of 'mouse4302barcodevecs' as mouse4302barcodevecs_1.0.1.zip
* DONE (mouse4302barcodevecs)