| hgu133plus2barcodevecs 1.0.3 Matthew N. McCall
 
 | Snapshot Date: 2012-03-23 11:15:09 -0700 (Fri, 23 Mar 2012) |  | URL: https://hedgehog.fhcrc.org/bioc-data/trunk/experiment/pkgs/hgu133plus2barcodevecs |  | Last Changed Rev: 1836 / Revision: 2028 |  | Last Changed Date: 2011-11-14 17:11:10 -0800 (Mon, 14 Nov 2011) | 
 | wilson2 | Linux (openSUSE 11.4) / x86_64 | OK | OK |  | 
| moscato1 | Windows Server 2008 R2 Enterprise SP1 (64-bit) / x64 | OK | OK | OK | 
| pitt | Mac OS X Leopard (10.5.8) / i386 | OK | OK | [ OK ] | 
>>>>>>> 
>>>>>>> INSTALLATION WITH 'R CMD INSTALL --preclean --no-multiarch --library=hgu133plus2barcodevecs.buildbin-libdir hgu133plus2barcodevecs_1.0.3.tar.gz'
>>>>>>> 
* installing *source* package 'hgu133plus2barcodevecs' ...
** data
** help
*** installing help indices
** building package indices ...
** testing if installed package can be loaded
* DONE (hgu133plus2barcodevecs)