| Back to the "Multiple platform build/check report" |
| Package 36/98 | Hostname | OS / Arch | BUILD | CHECK | BUILD BIN | ||||
| gaschYHS 1.0.3 Vince Carey
| wilson2 | Linux (openSUSE 11.4) / x86_64 | OK | OK | |||||
| liverpool | Windows Server 2003 R2 (32-bit) / x64 | OK | OK | [ OK ] | |||||
| pitt | Mac OS X Leopard (10.5.8) / i386 | OK | OK | OK |
| Package: gaschYHS |
| Version: 1.0.3 |
| Command: mkdir gaschYHS.buildbin-libdir && E:\biocbld\bbs-2.9-bioc\R\bin\R.exe CMD INSTALL --build --no-multiarch --library=gaschYHS.buildbin-libdir gaschYHS_1.0.3.tar.gz |
| StartedAt: 2011-07-06 16:51:54 -0700 (Wed, 06 Jul 2011) |
| EndedAt: 2011-07-06 16:51:58 -0700 (Wed, 06 Jul 2011) |
| EllapsedTime: 3.9 seconds |
| RetCode: 0 |
| Status: OK |
| PackageFile: gaschYHS_1.0.3.zip |
| PackageFileSize: 1.763 MiB |
* installing *source* package 'gaschYHS' ... ** data ** help *** installing help indices ** building package indices ... ** testing if installed package can be loaded * MD5 sums packaged installation of 'gaschYHS' as gaschYHS_1.0.3.zip * DONE (gaschYHS)