gageData 1.1.3 Weijun Luo
 | Snapshot Date: 2012-03-23 11:15:09 -0700 (Fri, 23 Mar 2012) |  | URL: https://hedgehog.fhcrc.org/bioc-data/trunk/experiment/pkgs/gageData |  | Last Changed Rev: 1836 / Revision: 2028 |  | Last Changed Date: 2011-11-14 17:11:10 -0800 (Mon, 14 Nov 2011) |  
  | wilson2  | Linux (openSUSE 11.4) / x86_64  |  OK  |  OK  |  | 
| moscato1  | Windows Server 2008 R2 Enterprise SP1 (64-bit) / x64  |  OK  | [ OK ] |  OK  | 
| pitt  | Mac OS X Leopard (10.5.8) / i386  |  OK  |  OK  |  OK  | 
* using log directory 'D:/biocbld/bbs-2.9-data-experiment/meat/gageData.Rcheck'
* using R version 2.14.2 (2012-02-29)
* using platform: i386-pc-mingw32 (32-bit)
* using session charset: ISO8859-1
* using option '--no-vignettes'
* checking for file 'gageData/DESCRIPTION' ... OK
* checking extension type ... Package
* this is package 'gageData' version '1.1.3'
* checking package namespace information ... OK
* checking package dependencies ... OK
* checking if this is a source package ... OK
* checking if there is a namespace ... OK
* checking whether package 'gageData' can be installed ... OK
* checking installed package size ... NOTE
  installed size is 11.7Mb
  sub-directories of 1Mb or more:
    data  11.7Mb
* checking package directory ... OK
* checking for portable file names ... OK
* checking DESCRIPTION meta-information ... OK
* checking top-level files ... OK
* checking index information ... OK
* checking package subdirectories ... OK
* loading checks for arch 'i386'
** checking whether the package can be loaded ... OK
** checking whether the package can be loaded with stated dependencies ... OK
** checking whether the package can be unloaded cleanly ... OK
** checking whether the namespace can be loaded with stated dependencies ... OK
** checking whether the namespace can be unloaded cleanly ... OK
* loading checks for arch 'x64'
** checking whether the package can be loaded ... OK
** checking whether the package can be loaded with stated dependencies ... OK
** checking whether the package can be unloaded cleanly ... OK
** checking whether the namespace can be loaded with stated dependencies ... OK
** checking whether the namespace can be unloaded cleanly ... OK
* checking Rd files ... OK
* checking Rd metadata ... OK
* checking Rd cross-references ... OK
* checking for missing documentation entries ... OK
* checking for code/documentation mismatches ... OK
* checking Rd \usage sections ... OK
* checking Rd contents ... OK
* checking for unstated dependencies in examples ... OK
* checking contents of 'data' directory ... OK
* checking data for non-ASCII characters ... OK
* checking data for ASCII and uncompressed saves ... NOTE
  
  Note: significantly better compression could be obtained
        by using R CMD build --resave-data
              old_size new_size compress
  bmp6.rda       560Kb    492Kb       xz
  go.gs.rda      1.9Mb    610Kb       xz
  go.mm.rda      1.7Mb    549Kb       xz
  go.rn.rda      1.9Mb    658Kb       xz
  go.sc.rda      891Kb    288Kb       xz
  kegg.gs.rda     28Kb     20Kb       xz
  kegg.mm.rda     32Kb     21Kb       xz
  kegg.rn.rda     30Kb     21Kb       xz
  orf2eg.rda      33Kb     11Kb       xz
  sc.gene.rda     71Kb     28Kb       xz
* checking examples ...
** running examples for arch 'i386' ... OK
** running examples for arch 'x64' ... OK
* checking PDF version of manual ... OK
 
install for i386
* installing *source* package 'gageData' ...
** data
** help
*** installing help indices
** building package indices ...
** testing if installed package can be loaded
add DLL for x64
* installing *source* package 'gageData' ...
** testing if installed package can be loaded
* MD5 sums
packaged installation of 'gageData' as gageData_1.1.3.zip
* DONE (gageData)