| dressCheck 0.1.4 Vincent Carey
 
 | Snapshot Date: 2012-03-23 11:15:09 -0700 (Fri, 23 Mar 2012) |  | URL: https://hedgehog.fhcrc.org/bioc-data/trunk/experiment/pkgs/dressCheck |  | Last Changed Rev: 1836 / Revision: 2028 |  | Last Changed Date: 2011-11-14 17:11:10 -0800 (Mon, 14 Nov 2011) | 
 | wilson2 | Linux (openSUSE 11.4) / x86_64 | OK | OK |  | 
| moscato1 | Windows Server 2008 R2 Enterprise SP1 (64-bit) / x64 | OK | OK | [ OK ] | 
| pitt | Mac OS X Leopard (10.5.8) / i386 | OK | OK | OK | 
install for i386
* installing *source* package 'dressCheck' ...
** data
** inst
** help
*** installing help indices
** building package indices ...
*** tangling vignette sources ...
   'short.Rnw' 
** testing if installed package can be loaded
add DLL for x64
* installing *source* package 'dressCheck' ...
** testing if installed package can be loaded
* MD5 sums
packaged installation of 'dressCheck' as dressCheck_0.1.4.zip
* DONE (dressCheck)