colonCA 1.4.5 W Sylvia Merk
 | Snapshot Date: 2011-07-01 11:15:06 -0700 (Fri, 01 Jul 2011) |  | URL: https://hedgehog.fhcrc.org/bioc-data/trunk/experiment/pkgs/colonCA |  | Last Changed Rev: 973 / Revision: 1675 |  | Last Changed Date: 2009-09-15 11:29:54 -0700 (Tue, 15 Sep 2009) |  
  | wilson2  | Linux (openSUSE 11.4) / x86_64  |  OK  |  OK  |  | 
| liverpool  | Windows Server 2003 R2 (32-bit) / x64  |  OK  |  OK  |  OK  | 
| petty  | Mac OS X Snow Leopard (10.6.7) / i386  | [ OK ] |  OK  |  OK  | 
* checking for file 'colonCA/DESCRIPTION' ... OK
* preparing 'colonCA':
* checking DESCRIPTION meta-information ... OK
* checking for LF line-endings in source and make files
* checking for empty or unneeded directories
* looking to see if a 'data/datalist' file should be added
* building 'colonCA_1.4.5.tar.gz'