| breastCancerUPP 0.99.0 Markus Schroeder , Benjamin Haibe-Kains
 
 | Snapshot Date: 2011-07-01 11:15:06 -0700 (Fri, 01 Jul 2011) |  | URL: https://hedgehog.fhcrc.org/bioc-data/trunk/experiment/pkgs/breastCancerUPP |  | Last Changed Rev: 1504 / Revision: 1675 |  | Last Changed Date: 2011-04-05 22:09:37 -0700 (Tue, 05 Apr 2011) | 
 | wilson2 | Linux (openSUSE 11.4) / x86_64 | OK | OK |  | 
| liverpool | Windows Server 2003 R2 (32-bit) / x64 | OK | OK | OK | 
| petty | Mac OS X Snow Leopard (10.6.7) / i386 | [ OK ] | OK | OK | 
* checking for file 'breastCancerUPP/DESCRIPTION' ... OK
* preparing 'breastCancerUPP':
* checking DESCRIPTION meta-information ... OK
* checking whether 'INDEX' is up-to-date ... NO
* use '--force' to remove the existing 'INDEX'
* checking for LF line-endings in source and make files
* checking for empty or unneeded directories
* looking to see if a 'data/datalist' file should be added
* building 'breastCancerUPP_0.99.0.tar.gz'