XhybCasneuf 1.0.6 Tineke Casneuf
Snapshot Date: 2011-07-01 11:15:06 -0700 (Fri, 01 Jul 2011) | URL: https://hedgehog.fhcrc.org/bioc-data/trunk/experiment/pkgs/XhybCasneuf | Last Changed Rev: 986 / Revision: 1675 | Last Changed Date: 2009-09-15 12:41:50 -0700 (Tue, 15 Sep 2009) |
| wilson2 | Linux (openSUSE 11.4) / x86_64 | OK | OK | |
liverpool | Windows Server 2003 R2 (32-bit) / x64 | OK | OK | OK |
petty | Mac OS X Snow Leopard (10.6.7) / i386 | OK | OK | [ OK ] |
>>>>>>>
>>>>>>> INSTALLATION WITH 'R CMD INSTALL --preclean --library=XhybCasneuf.buildbin-libdir XhybCasneuf_1.0.6.tar.gz'
>>>>>>>
* installing *source* package 'XhybCasneuf' ...
** R
** data
** inst
** preparing package for lazy loading
Loading required package: Biobase
Welcome to Bioconductor
Vignettes contain introductory material. To view, type
'browseVignettes()'. To cite Bioconductor, see
'citation("Biobase")' and for packages 'citation("pkgname")'.
Attaching package: 'tinesath1cdf'
The following object(s) are masked from 'package:ath1121501cdf':
i2xy, xy2i
** help
*** installing help indices
** building package indices ...
*** tangling vignette sources ...
'Xhyb.Rnw'
** testing if installed package can be loaded
* DONE (XhybCasneuf)