HIVcDNAvantWout03 1.2.3 Chris Fraley
Snapshot Date: 2011-07-06 11:15:18 -0700 (Wed, 06 Jul 2011) | URL: https://hedgehog.fhcrc.org/bioc-data/trunk/experiment/pkgs/HIVcDNAvantWout03 | Last Changed Rev: 959 / Revision: 1678 | Last Changed Date: 2009-09-10 11:19:18 -0700 (Thu, 10 Sep 2009) |
| wilson2 | Linux (openSUSE 11.4) / x86_64 | OK | OK | |
liverpool | Windows Server 2003 R2 (32-bit) / x64 | [ OK ] | OK | OK |
pitt | Mac OS X Leopard (10.5.8) / i386 | OK | OK | OK |
* checking for file 'HIVcDNAvantWout03/DESCRIPTION' ... OK
* preparing 'HIVcDNAvantWout03':
* checking DESCRIPTION meta-information ... OK
* checking whether 'INDEX' is up-to-date ... NO
* use '--force' to remove the existing 'INDEX'
* checking for LF line-endings in source and make files
* checking for empty or unneeded directories
* looking to see if a 'data/datalist' file should be added
Read 450000 items
Read 450000 items
* building 'HIVcDNAvantWout03_1.2.3.tar.gz'