GGdata 1.0.13 VJ Carey
 | Snapshot Date: 2011-07-01 11:15:06 -0700 (Fri, 01 Jul 2011) |  | URL: https://hedgehog.fhcrc.org/bioc-data/trunk/experiment/pkgs/GGdata |  | Last Changed Rev: 1622 / Revision: 1675 |  | Last Changed Date: 2011-06-01 10:22:02 -0700 (Wed, 01 Jun 2011) |  
  | wilson2  | Linux (openSUSE 11.4) / x86_64  |  OK  |  OK  |  | 
| liverpool  | Windows Server 2003 R2 (32-bit) / x64  |  OK  |  OK  |  OK  | 
| petty  | Mac OS X Snow Leopard (10.6.7) / i386  | [ OK ] |  OK  |  OK  | 
* checking for file 'GGdata/DESCRIPTION' ... OK
* preparing 'GGdata':
* checking DESCRIPTION meta-information ... OK
* checking for LF line-endings in source and make files
* checking for empty or unneeded directories
* looking to see if a 'data/datalist' file should be added
* building 'GGdata_1.0.13.tar.gz'