| Back to the "Multiple platform build/check report" |
| Package 26/98 | Hostname | OS / Arch | BUILD | CHECK | BUILD BIN | ||||
| EatonEtAlChIPseq 0.0.2 Patrick Aboyoun
| wilson2 | Linux (openSUSE 11.4) / x86_64 | OK | OK | |||||
| liverpool | Windows Server 2003 R2 (32-bit) / x64 | OK | OK | [ OK ] | |||||
| pitt | Mac OS X Leopard (10.5.8) / i386 | OK | OK | OK |
| Package: EatonEtAlChIPseq |
| Version: 0.0.2 |
| Command: mkdir EatonEtAlChIPseq.buildbin-libdir && E:\biocbld\bbs-2.9-bioc\R\bin\R.exe CMD INSTALL --build --no-multiarch --library=EatonEtAlChIPseq.buildbin-libdir EatonEtAlChIPseq_0.0.2.tar.gz |
| StartedAt: 2011-07-06 16:46:37 -0700 (Wed, 06 Jul 2011) |
| EndedAt: 2011-07-06 16:47:03 -0700 (Wed, 06 Jul 2011) |
| EllapsedTime: 25.7 seconds |
| RetCode: 0 |
| Status: OK |
| PackageFile: EatonEtAlChIPseq_0.0.2.zip |
| PackageFileSize: 20.51 MiB |
* installing *source* package 'EatonEtAlChIPseq' ... ** data ** inst ** help *** installing help indices ** building package indices ... ** testing if installed package can be loaded * MD5 sums packaged installation of 'EatonEtAlChIPseq' as EatonEtAlChIPseq_0.0.2.zip * DONE (EatonEtAlChIPseq)